BEGIN:VCALENDAR
VERSION:2.0
PRODID:-//www.insightmcc.org//NONSGML kigkonsult.se iCalcreator 2.30.10//
CALSCALE:GREGORIAN
METHOD:PUBLISH
UID:d100b69b-64fd-4913-8806-6dfd1f7eb407
X-WR-CALDESC:Join us for a discussion on typical cognitive changes that occ
 ur with age\, warning signs of a memory problem\, reversible and irreversi
 ble causes of dementia\, and what to do if you are concerned about yoursel
 f or a loved one.\n\nThis class is free for participants to attend. You wi
 ll need to create a free GetSetUp account to register for the class.
X-WR-RELCALID:535d85d2a37d11c9dca11cb1d08a0462
X-WR-TIMEZONE:America/New_York
BEGIN:VTIMEZONE
TZID:America/New_York
BEGIN:STANDARD
TZNAME:EST
DTSTART:20201101T020000
TZOFFSETFROM:-0400
TZOFFSETTO:-0500
RDATE:20211107T020000
RDATE:20221106T020000
END:STANDARD
BEGIN:DAYLIGHT
TZNAME:EDT
DTSTART:20210314T020000
TZOFFSETFROM:-0500
TZOFFSETTO:-0400
RDATE:20220313T020000
END:DAYLIGHT
END:VTIMEZONE
BEGIN:VEVENT
UID:f7e23819-f33c-47f6-b389-eb468174af6f
DTSTAMP:20260423T161013Z
DESCRIPTION:Join us for a discussion on typical cognitive changes that occu
 r with age\, warning signs of a memory problem\, reversible and irreversib
 le causes of dementia\, and what to do if you are concerned about yourself
  or a loved one.\n\nThis class is free for participants to attend. You wil
 l need to create a free GetSetUp account to register for the class.
DTSTART;TZID=America/New_York:20210719T120000
DTEND;TZID=America/New_York:20210719T130000
LOCATION:Virtual
SUMMARY:Normal Aging vs. Dementia
END:VEVENT
END:VCALENDAR
