BEGIN:VCALENDAR
VERSION:2.0
PRODID:-//www.insightmcc.org//NONSGML kigkonsult.se iCalcreator 2.30.10//
CALSCALE:GREGORIAN
METHOD:PUBLISH
UID:453e2609-0f9b-47fc-b1ba-f1a1b4941b7d
X-WR-CALDESC:Learn more about age-related changes in memory and learning\, 
 and practices to keep your brain sharp! Learn what to expect\, what’s “nor
 mal\,” and when it’s time to seek a doctor’s input.\n\nThis webinar is hos
 ted by the Senior Center of Leesburg and presented by Insight Memory Care 
 Center. A link to join the webinar will be emailed to you after you regist
 er.
X-WR-RELCALID:7a89e7ff94754aae9e01a2ceb1f6f65f
X-WR-TIMEZONE:America/New_York
BEGIN:VTIMEZONE
TZID:America/New_York
BEGIN:STANDARD
TZNAME:EST
DTSTART:20201101T020000
TZOFFSETFROM:-0400
TZOFFSETTO:-0500
RDATE:20211107T020000
RDATE:20221106T020000
END:STANDARD
BEGIN:DAYLIGHT
TZNAME:EDT
DTSTART:20210314T020000
TZOFFSETFROM:-0500
TZOFFSETTO:-0400
RDATE:20220313T020000
END:DAYLIGHT
END:VTIMEZONE
BEGIN:VEVENT
UID:6e4fab9f-e5f0-4187-a64d-78dc6ccc7439
DTSTAMP:20260423T161054Z
DESCRIPTION:Learn more about age-related changes in memory and learning\, a
 nd practices to keep your brain sharp! Learn what to expect\, what’s “norm
 al\,” and when it’s time to seek a doctor’s input.\n\nThis webinar is host
 ed by the Senior Center of Leesburg and presented by Insight Memory Care C
 enter. A link to join the webinar will be emailed to you after you registe
 r.
DTSTART;TZID=America/New_York:20210720T140000
DTEND;TZID=America/New_York:20210720T144500
LOCATION:Virtual
SUMMARY:Brain Health as You Age
END:VEVENT
END:VCALENDAR
