BEGIN:VCALENDAR
VERSION:2.0
PRODID:-//www.insightmcc.org//NONSGML kigkonsult.se iCalcreator 2.30.10//
CALSCALE:GREGORIAN
METHOD:PUBLISH
UID:2dd1ce19-7a44-4b49-8d47-9c31d4d5388f
X-WR-CALDESC:It can be quite a shock - or a sense of relief! - once the dia
 gnosis has been given. This class will provide practical steps to help you
  start planning for the future\, while also adjusting to a new life with s
 omeone who has dementia.\n\nThis class is free for participants to attend.
  You will need to create a free GetSetUp account to register for the class
 .
X-WR-RELCALID:ba7986ebdf2b3c80529b23e1da8a6d0a
X-WR-TIMEZONE:America/New_York
BEGIN:VTIMEZONE
TZID:America/New_York
BEGIN:STANDARD
TZNAME:EST
DTSTART:20201101T020000
TZOFFSETFROM:-0400
TZOFFSETTO:-0500
RDATE:20211107T020000
RDATE:20221106T020000
END:STANDARD
BEGIN:DAYLIGHT
TZNAME:EDT
DTSTART:20210314T020000
TZOFFSETFROM:-0500
TZOFFSETTO:-0400
RDATE:20220313T020000
END:DAYLIGHT
END:VTIMEZONE
BEGIN:VEVENT
UID:2dd02f19-da80-4d67-a316-a5cd246694e3
DTSTAMP:20260423T144817Z
DESCRIPTION:It can be quite a shock - or a sense of relief! - once the diag
 nosis has been given. This class will provide practical steps to help you 
 start planning for the future\, while also adjusting to a new life with so
 meone who has dementia.\n\nThis class is free for participants to attend. 
 You will need to create a free GetSetUp account to register for the class.
DTSTART;TZID=America/New_York:20210809T120000
DTEND;TZID=America/New_York:20210809T130000
LOCATION:Virtual
SUMMARY:Just Diagnosed: 8 Steps to Take After a Dementia Diagnosis
END:VEVENT
END:VCALENDAR
