BEGIN:VCALENDAR
VERSION:2.0
PRODID:-//www.insightmcc.org//NONSGML kigkonsult.se iCalcreator 2.30.10//
CALSCALE:GREGORIAN
METHOD:PUBLISH
UID:be094014-0b92-4400-8291-c14333d08c69
X-WR-CALDESC:Insight will be closed for Labor Day. Enjoy your holiday!
X-WR-RELCALID:1d682d0d43814393e7ce0ef60c5055bd
X-WR-TIMEZONE:America/New_York
BEGIN:VTIMEZONE
TZID:America/New_York
BEGIN:STANDARD
TZNAME:EST
DTSTART:20201101T020000
TZOFFSETFROM:-0400
TZOFFSETTO:-0500
RDATE:20211107T020000
RDATE:20221106T020000
END:STANDARD
BEGIN:DAYLIGHT
TZNAME:EDT
DTSTART:20210314T020000
TZOFFSETFROM:-0500
TZOFFSETTO:-0400
RDATE:20220313T020000
END:DAYLIGHT
END:VTIMEZONE
BEGIN:VEVENT
UID:19c6710b-61c0-4579-9633-2e2749735c16
DTSTAMP:20260423T133251Z
DESCRIPTION:Insight will be closed for Labor Day. Enjoy your holiday!
DTSTART;TZID=America/New_York:20210906T000000
DTEND;TZID=America/New_York:20210906T235900
LOCATION:
SUMMARY:Insight Closed
END:VEVENT
END:VCALENDAR
