BEGIN:VCALENDAR
VERSION:2.0
PRODID:-//www.insightmcc.org//NONSGML kigkonsult.se iCalcreator 2.30.10//
CALSCALE:GREGORIAN
METHOD:PUBLISH
UID:ae131f35-5253-4ea8-9bdf-70417b5ccc69
X-WR-CALDESC:Insight will be closed for Columbus Day. Enjoy your holiday!
X-WR-RELCALID:7c31ab8e84e7f2208724c581f8badb0d
X-WR-TIMEZONE:America/New_York
BEGIN:VTIMEZONE
TZID:America/New_York
BEGIN:STANDARD
TZNAME:EST
DTSTART:20201101T020000
TZOFFSETFROM:-0400
TZOFFSETTO:-0500
RDATE:20211107T020000
RDATE:20221106T020000
END:STANDARD
BEGIN:DAYLIGHT
TZNAME:EDT
DTSTART:20210314T020000
TZOFFSETFROM:-0500
TZOFFSETTO:-0400
RDATE:20220313T020000
RDATE:20230312T020000
END:DAYLIGHT
END:VTIMEZONE
BEGIN:VEVENT
UID:5182bde7-f65f-4410-bf75-ebe092d07dea
DTSTAMP:20260423T121259Z
DESCRIPTION:Insight will be closed for Columbus Day. Enjoy your holiday!
DTSTART;TZID=America/New_York:20211011T000000
DTEND;TZID=America/New_York:20211011T235900
LOCATION:
SUMMARY:Insight Closed
END:VEVENT
END:VCALENDAR
