BEGIN:VCALENDAR
VERSION:2.0
PRODID:-//www.insightmcc.org//NONSGML kigkonsult.se iCalcreator 2.30.10//
CALSCALE:GREGORIAN
METHOD:PUBLISH
UID:67b3fcd7-77f2-4b64-acea-b6cc508ead3f
X-WR-CALDESC:It can be quite a shock - or a sense of relief! - once the dia
 gnosis has been given. This discussion will help you start planning for th
 e future\, while also adjusting to a new life with someone who has dementi
 a.\n\nThis class is hosted by Brandywine Living at Alexandria and presente
 d by Insight Memory Care Center. To register\, please call 703-910-3300 or
  email cmelendez@brandycare.com.
X-WR-RELCALID:01cb50ea914a5cd03a039682490e1bde
X-WR-TIMEZONE:America/New_York
BEGIN:VTIMEZONE
TZID:America/New_York
BEGIN:STANDARD
TZNAME:EST
DTSTART:20211107T020000
TZOFFSETFROM:-0400
TZOFFSETTO:-0500
RDATE:20221106T020000
END:STANDARD
BEGIN:DAYLIGHT
TZNAME:EDT
DTSTART:20210314T020000
TZOFFSETFROM:-0500
TZOFFSETTO:-0400
RDATE:20220313T020000
RDATE:20230312T020000
END:DAYLIGHT
END:VTIMEZONE
BEGIN:VEVENT
UID:9768f592-0759-48ec-91ec-7b5a762ef13f
DTSTAMP:20260423T105552Z
DESCRIPTION:It can be quite a shock - or a sense of relief! - once the diag
 nosis has been given. This discussion will help you start planning for the
  future\, while also adjusting to a new life with someone who has dementia
 .\n\nThis class is hosted by Brandywine Living at Alexandria and presented
  by Insight Memory Care Center. To register\, please call 703-910-3300 or 
 email cmelendez@brandycare.com.
DTSTART;TZID=America/New_York:20211104T140000
DTEND;TZID=America/New_York:20211104T150000
LOCATION:Brandywine Living at Alexandria\, 5550 Cardinal Place\, Alexandria
 \, VA 22304 US
SUMMARY:Diagnosis Dementia: Now What?
END:VEVENT
END:VCALENDAR
