BEGIN:VCALENDAR
VERSION:2.0
PRODID:-//www.insightmcc.org//NONSGML kigkonsult.se iCalcreator 2.30.10//
CALSCALE:GREGORIAN
METHOD:PUBLISH
UID:29383b3e-7108-4f70-9d73-72a128df26c2
X-WR-CALDESC:Insight will be closed for Thanksgiving. Enjoy your holiday!
X-WR-RELCALID:72382a1f10265d66cd699aef90d295a3
X-WR-TIMEZONE:America/New_York
BEGIN:VTIMEZONE
TZID:America/New_York
BEGIN:STANDARD
TZNAME:EST
DTSTART:20211107T020000
TZOFFSETFROM:-0400
TZOFFSETTO:-0500
RDATE:20221106T020000
END:STANDARD
BEGIN:DAYLIGHT
TZNAME:EDT
DTSTART:20210314T020000
TZOFFSETFROM:-0500
TZOFFSETTO:-0400
RDATE:20220313T020000
RDATE:20230312T020000
END:DAYLIGHT
END:VTIMEZONE
BEGIN:VEVENT
UID:0957bd76-e9ab-47f5-ae38-44310392a616
DTSTAMP:20260423T105414Z
DESCRIPTION:Insight will be closed for Thanksgiving. Enjoy your holiday!
DTSTART;TZID=America/New_York:20211125T000000
DTEND;TZID=America/New_York:20211125T235900
LOCATION:
SUMMARY:Insight Closed
END:VEVENT
END:VCALENDAR
