BEGIN:VCALENDAR
VERSION:2.0
PRODID:-//www.insightmcc.org//NONSGML kigkonsult.se iCalcreator 2.30.10//
CALSCALE:GREGORIAN
METHOD:PUBLISH
UID:170e5612-bc94-48e3-9c90-56b8962771f9
X-WR-CALDESC:Insight will be closed for Thanksgiving. Enjoy your holiday!
X-WR-RELCALID:037eb2dba326962e73d9ed9d20221f52
X-WR-TIMEZONE:America/New_York
BEGIN:VTIMEZONE
TZID:America/New_York
BEGIN:STANDARD
TZNAME:EST
DTSTART:20211107T020000
TZOFFSETFROM:-0400
TZOFFSETTO:-0500
RDATE:20221106T020000
END:STANDARD
BEGIN:DAYLIGHT
TZNAME:EDT
DTSTART:20210314T020000
TZOFFSETFROM:-0500
TZOFFSETTO:-0400
RDATE:20220313T020000
RDATE:20230312T020000
END:DAYLIGHT
END:VTIMEZONE
BEGIN:VEVENT
UID:10adbc03-1ad6-42fe-9e2a-0f988a23fdf4
DTSTAMP:20260423T105413Z
DESCRIPTION:Insight will be closed for Thanksgiving. Enjoy your holiday!
DTSTART;TZID=America/New_York:20211126T000000
DTEND;TZID=America/New_York:20211126T235900
LOCATION:
SUMMARY:Insight Closed
END:VEVENT
END:VCALENDAR
