BEGIN:VCALENDAR
VERSION:2.0
PRODID:-//www.insightmcc.org//NONSGML kigkonsult.se iCalcreator 2.30.10//
CALSCALE:GREGORIAN
METHOD:PUBLISH
UID:42a68b1d-6865-44df-aaeb-939c04209074
X-WR-CALDESC:Insight will be closed at 1:00 pm for Winter Holidays. Happy H
 olidays!
X-WR-RELCALID:a4f11cc9eeb32158b6b0706c1299ec39
X-WR-TIMEZONE:America/New_York
BEGIN:VTIMEZONE
TZID:America/New_York
BEGIN:STANDARD
TZNAME:EST
DTSTART:20211107T020000
TZOFFSETFROM:-0400
TZOFFSETTO:-0500
RDATE:20221106T020000
END:STANDARD
BEGIN:DAYLIGHT
TZNAME:EDT
DTSTART:20210314T020000
TZOFFSETFROM:-0500
TZOFFSETTO:-0400
RDATE:20220313T020000
RDATE:20230312T020000
END:DAYLIGHT
END:VTIMEZONE
BEGIN:VEVENT
UID:acb85ad9-6df9-4d60-b8e6-90778cab62bd
DTSTAMP:20260423T093659Z
DESCRIPTION:Insight will be closed at 1:00 pm for Winter Holidays. Happy Ho
 lidays!
DTSTART;TZID=America/New_York:20211224T000000
DTEND;TZID=America/New_York:20211224T235900
LOCATION:
SUMMARY:Insight Closed Early
END:VEVENT
END:VCALENDAR
