BEGIN:VCALENDAR
VERSION:2.0
PRODID:-//www.insightmcc.org//NONSGML kigkonsult.se iCalcreator 2.30.10//
CALSCALE:GREGORIAN
METHOD:PUBLISH
UID:f85ad274-a642-41cb-afa4-78fec4c13038
X-WR-CALDESC:Insight will be closed for Winter Holidays. Happy Holidays!
X-WR-RELCALID:0d7e62515265216b55a4bc380a04c9db
X-WR-TIMEZONE:America/New_York
BEGIN:VTIMEZONE
TZID:America/New_York
BEGIN:STANDARD
TZNAME:EST
DTSTART:20211107T020000
TZOFFSETFROM:-0400
TZOFFSETTO:-0500
RDATE:20221106T020000
END:STANDARD
BEGIN:DAYLIGHT
TZNAME:EDT
DTSTART:20210314T020000
TZOFFSETFROM:-0500
TZOFFSETTO:-0400
RDATE:20220313T020000
RDATE:20230312T020000
END:DAYLIGHT
END:VTIMEZONE
BEGIN:VEVENT
UID:7f4b1028-e7d0-42e9-bce1-cc8a7c8a29d0
DTSTAMP:20260423T093542Z
DESCRIPTION:Insight will be closed for Winter Holidays. Happy Holidays!
DTSTART;TZID=America/New_York:20211228T000000
DTEND;TZID=America/New_York:20211228T235900
LOCATION:
SUMMARY:Insight Closed
END:VEVENT
END:VCALENDAR
