BEGIN:VCALENDAR
VERSION:2.0
PRODID:-//www.insightmcc.org//NONSGML kigkonsult.se iCalcreator 2.30.10//
CALSCALE:GREGORIAN
METHOD:PUBLISH
UID:be11eb7e-4734-42f5-95bf-1dd7e2f8b882
X-WR-CALDESC:Insight will be closed for Winter Holidays. Happy Holidays!
X-WR-RELCALID:119ee3d40280c35fcca21f243ff76ffd
X-WR-TIMEZONE:America/New_York
BEGIN:VTIMEZONE
TZID:America/New_York
BEGIN:STANDARD
TZNAME:EST
DTSTART:20211107T020000
TZOFFSETFROM:-0400
TZOFFSETTO:-0500
RDATE:20221106T020000
END:STANDARD
BEGIN:DAYLIGHT
TZNAME:EDT
DTSTART:20210314T020000
TZOFFSETFROM:-0500
TZOFFSETTO:-0400
RDATE:20220313T020000
RDATE:20230312T020000
END:DAYLIGHT
END:VTIMEZONE
BEGIN:VEVENT
UID:4393c2b9-e31a-4156-a97d-a48cfe302a10
DTSTAMP:20260423T093543Z
DESCRIPTION:Insight will be closed for Winter Holidays. Happy Holidays!
DTSTART;TZID=America/New_York:20211229T000000
DTEND;TZID=America/New_York:20211229T235900
LOCATION:
SUMMARY:Insight Closed
END:VEVENT
END:VCALENDAR
