BEGIN:VCALENDAR
VERSION:2.0
PRODID:-//www.insightmcc.org//NONSGML kigkonsult.se iCalcreator 2.30.10//
CALSCALE:GREGORIAN
METHOD:PUBLISH
UID:390e0758-9844-4ebe-b42e-c44dafd99425
X-WR-CALDESC:Insight will be closed for Winter Holidays. Happy Holidays!
X-WR-RELCALID:13a8a5beba303ebfa851db26a78a29f2
X-WR-TIMEZONE:America/New_York
BEGIN:VTIMEZONE
TZID:America/New_York
BEGIN:STANDARD
TZNAME:EST
DTSTART:20211107T020000
TZOFFSETFROM:-0400
TZOFFSETTO:-0500
RDATE:20221106T020000
END:STANDARD
BEGIN:DAYLIGHT
TZNAME:EDT
DTSTART:20210314T020000
TZOFFSETFROM:-0500
TZOFFSETTO:-0400
RDATE:20220313T020000
RDATE:20230312T020000
END:DAYLIGHT
END:VTIMEZONE
BEGIN:VEVENT
UID:7a2287b9-5962-4eb1-82e1-89c6c37c7cec
DTSTAMP:20260423T093543Z
DESCRIPTION:Insight will be closed for Winter Holidays. Happy Holidays!
DTSTART;TZID=America/New_York:20211230T000000
DTEND;TZID=America/New_York:20211230T235900
LOCATION:
SUMMARY:Insight Closed
END:VEVENT
END:VCALENDAR
