BEGIN:VCALENDAR
VERSION:2.0
PRODID:-//www.insightmcc.org//NONSGML kigkonsult.se iCalcreator 2.30.10//
CALSCALE:GREGORIAN
METHOD:PUBLISH
UID:14eb5277-48f6-4bc4-be0c-4744eede62d4
X-WR-CALDESC:This group is specifically designed for caregivers whose loved
  one has received a diagnosis of frontotemporal degeneration. Get to know 
 other families who are in a similar situation\, while also learning practi
 cal caregiving tips and sharing personal concerns and successes.\n\nPlease
  RSVP today\, and you'll receive instructions to join from your computer o
 r phone.\n\n<strong><a href='https://insightmcc.salsalabs.org/ftdcaregiver
 group' target='_blank' class='button' rel='noreferrer noopener'>Sign Me Up
 !</a></strong>\n
X-WR-RELCALID:3d694d70549cb1712991d8e7d7137e73
X-WR-TIMEZONE:America/New_York
BEGIN:VTIMEZONE
TZID:America/New_York
BEGIN:STANDARD
TZNAME:EST
DTSTART:20211107T020000
TZOFFSETFROM:-0400
TZOFFSETTO:-0500
RDATE:20221106T020000
END:STANDARD
BEGIN:DAYLIGHT
TZNAME:EDT
DTSTART:20210314T020000
TZOFFSETFROM:-0500
TZOFFSETTO:-0400
RDATE:20220313T020000
RDATE:20230312T020000
END:DAYLIGHT
END:VTIMEZONE
BEGIN:VEVENT
UID:48e17842-1ced-43e2-a6ac-b2cb0bfc51ad
DTSTAMP:20260423T082339Z
DESCRIPTION:This group is specifically designed for caregivers whose loved 
 one has received a diagnosis of frontotemporal degeneration. Get to know o
 ther families who are in a similar situation\, while also learning practic
 al caregiving tips and sharing personal concerns and successes.\n\nPlease 
 RSVP today\, and you'll receive instructions to join from your computer or
  phone.\n\n<strong><a href='https://insightmcc.salsalabs.org/ftdcaregiverg
 roup' target='_blank' class='button' rel='noreferrer noopener'>Sign Me Up!
 </a></strong>\n
DTSTART;TZID=America/New_York:20220103T190000
DTEND;TZID=America/New_York:20220103T203000
LOCATION:Virtual
SUMMARY:FTD Caregiver Support Group - Virtual Meeting
END:VEVENT
END:VCALENDAR
