BEGIN:VCALENDAR
VERSION:2.0
PRODID:-//www.insightmcc.org//NONSGML kigkonsult.se iCalcreator 2.30.10//
CALSCALE:GREGORIAN
METHOD:PUBLISH
UID:d3ff14ab-8f8c-4a94-9b8f-9affe299f033
X-WR-CALDESC:Insight will be closed for Martin Luther King Jr Day. Enjoy yo
 ur holiday!
X-WR-RELCALID:fbad014fdd9f76fdd15d79ff01de875e
X-WR-TIMEZONE:America/New_York
BEGIN:VTIMEZONE
TZID:America/New_York
BEGIN:STANDARD
TZNAME:EST
DTSTART:20211107T020000
TZOFFSETFROM:-0400
TZOFFSETTO:-0500
RDATE:20221106T020000
END:STANDARD
BEGIN:DAYLIGHT
TZNAME:EDT
DTSTART:20210314T020000
TZOFFSETFROM:-0500
TZOFFSETTO:-0400
RDATE:20220313T020000
RDATE:20230312T020000
END:DAYLIGHT
END:VTIMEZONE
BEGIN:VEVENT
UID:72e6de71-5ec2-4492-ae4c-a8615f0f1bbf
DTSTAMP:20260423T081849Z
DESCRIPTION:Insight will be closed for Martin Luther King Jr Day. Enjoy you
 r holiday!
DTSTART;TZID=America/New_York:20220117T000000
DTEND;TZID=America/New_York:20220117T235900
LOCATION:
SUMMARY:Insight Closed
END:VEVENT
END:VCALENDAR
