BEGIN:VCALENDAR
VERSION:2.0
PRODID:-//www.insightmcc.org//NONSGML kigkonsult.se iCalcreator 2.30.10//
CALSCALE:GREGORIAN
METHOD:PUBLISH
UID:bf257d0f-3eb9-4423-b5cc-53ffdffa03c5
X-WR-CALDESC:Insight will be closed for President's Day. Enjoy your holiday
 !
X-WR-RELCALID:c02f16070390711d64a6758e007ecd8f
X-WR-TIMEZONE:America/New_York
BEGIN:VTIMEZONE
TZID:America/New_York
BEGIN:STANDARD
TZNAME:EST
DTSTART:20211107T020000
TZOFFSETFROM:-0400
TZOFFSETTO:-0500
RDATE:20221106T020000
END:STANDARD
BEGIN:DAYLIGHT
TZNAME:EDT
DTSTART:20210314T020000
TZOFFSETFROM:-0500
TZOFFSETTO:-0400
RDATE:20220313T020000
RDATE:20230312T020000
END:DAYLIGHT
END:VTIMEZONE
BEGIN:VEVENT
UID:685699f4-b310-488d-b443-e3fb50be8c35
DTSTAMP:20260423T070128Z
DESCRIPTION:Insight will be closed for President's Day. Enjoy your holiday!
DTSTART;TZID=America/New_York:20220221T000000
DTEND;TZID=America/New_York:20220221T235900
LOCATION:
SUMMARY:Insight Closed
END:VEVENT
END:VCALENDAR
