BEGIN:VCALENDAR
VERSION:2.0
PRODID:-//www.insightmcc.org//NONSGML kigkonsult.se iCalcreator 2.30.10//
CALSCALE:GREGORIAN
METHOD:PUBLISH
UID:90c9f3c9-d86f-45e7-a376-5202ba8cadd3
X-WR-CALDESC:Insight holds an annual staff training day each spring to ensu
 re all of our staff are up-to-date on dementia care best practices. To ens
 ure that all staff can actively participate\, the center will be closed on
  Friday\, April 8 for our staff training day. We thank you for your unders
 tanding as we work to better serve our participants and families!
X-WR-RELCALID:a5d006f8dd1f4d21b217b10205de182a
X-WR-TIMEZONE:America/New_York
BEGIN:VTIMEZONE
TZID:America/New_York
BEGIN:STANDARD
TZNAME:EST
DTSTART:20211107T020000
TZOFFSETFROM:-0400
TZOFFSETTO:-0500
RDATE:20221106T020000
END:STANDARD
BEGIN:DAYLIGHT
TZNAME:EDT
DTSTART:20220313T020000
TZOFFSETFROM:-0500
TZOFFSETTO:-0400
RDATE:20230312T020000
END:DAYLIGHT
END:VTIMEZONE
BEGIN:VEVENT
UID:eb66237f-8d48-4f9a-a6f6-11580e71e8f5
DTSTAMP:20260423T043602Z
DESCRIPTION:Insight holds an annual staff training day each spring to ensur
 e all of our staff are up-to-date on dementia care best practices. To ensu
 re that all staff can actively participate\, the center will be closed on 
 Friday\, April 8 for our staff training day. We thank you for your underst
 anding as we work to better serve our participants and families!
DTSTART;TZID=America/New_York:20220408T000000
DTEND;TZID=America/New_York:20220408T235900
LOCATION:
SUMMARY:Insight Closed: Staff Training Day
END:VEVENT
END:VCALENDAR
