BEGIN:VCALENDAR
VERSION:2.0
PRODID:-//www.insightmcc.org//NONSGML kigkonsult.se iCalcreator 2.30.10//
CALSCALE:GREGORIAN
METHOD:PUBLISH
UID:a9f91148-9c53-4446-ab25-59faa0cde40c
X-WR-CALDESC:The Mind and Body Workshop provides innovative interventions f
 or families who have an early diagnosis of Alzheimer’s disease or another 
 memory impairment. The workshop is a 4 session program series for both the
  care partner and the early stage individual to participate\, promoting so
 cial engagement and peer support\, while adjusting to life with a new diag
 nosis. \n\n<h6>Travelogue Session</h6>\nThis session will be offered weekl
 y at Insight Memory Care Center - Fairfax from 4:00 to 6:30 pm. All partic
 ipants will need to provide proof of vaccination before the first session.
  Each session will be limited to 8 couples\, both to allow for social dist
 ancing\, but the small group also fosters connection and allows everyone t
 ime to participate! Session activities include:\n\n<strong>May 17</strong>
 \nGroup Activity: Wonders of the World\nBreakout Sessions: Tips for Travel
  (Care Partners)\; Music from Around the World (Participants)\n\n<strong>M
 ay 24</strong>\nGroup Activity: Walking and Balance Exercise\nBreakout Ses
 sions: Caring for Your Body: Sleep (Care Partners)\; Crafting your Dream V
 acation (Participants)\n\n<strong>May 31</strong>\nGroup Activity: City Ar
 tscape\nBreakout Sessions: Assess your Stress (Care Partners)\; Iconic Lan
 dmarks (Participants)\n\n<strong>June 7</strong>\nGroup Activity: My Favor
 ite Trip\nBreakout Sessions: Developing your Care Team (Care Partners)\; D
 iscover the Blue Zones (Participants)\n\nRegistration is required\; there 
 is a short application and assessment process for the program to ensure a 
 good fit for both the caregiver and early stage participant. Please contac
 t Lindsey Vajpeyi with any questions or to register!\n\n
X-WR-RELCALID:cbf3afd47e89afba182757c2729fff4d
X-WR-TIMEZONE:America/New_York
BEGIN:VTIMEZONE
TZID:America/New_York
BEGIN:STANDARD
TZNAME:EST
DTSTART:20211107T020000
TZOFFSETFROM:-0400
TZOFFSETTO:-0500
RDATE:20221106T020000
RDATE:20231105T020000
END:STANDARD
BEGIN:DAYLIGHT
TZNAME:EDT
DTSTART:20220313T020000
TZOFFSETFROM:-0500
TZOFFSETTO:-0400
RDATE:20230312T020000
END:DAYLIGHT
END:VTIMEZONE
BEGIN:VEVENT
UID:48e8a0a2-86b4-41be-bd10-f305999c66fc
DTSTAMP:20260423T031331Z
DESCRIPTION:The Mind and Body Workshop provides innovative interventions fo
 r families who have an early diagnosis of Alzheimer’s disease or another m
 emory impairment. The workshop is a 4 session program series for both the 
 care partner and the early stage individual to participate\, promoting soc
 ial engagement and peer support\, while adjusting to life with a new diagn
 osis. \n\n<h6>Travelogue Session</h6>\nThis session will be offered weekly
  at Insight Memory Care Center - Fairfax from 4:00 to 6:30 pm. All partici
 pants will need to provide proof of vaccination before the first session. 
 Each session will be limited to 8 couples\, both to allow for social dista
 ncing\, but the small group also fosters connection and allows everyone ti
 me to participate! Session activities include:\n\n<strong>May 17</strong>
 \nGroup Activity: Wonders of the World\nBreakout Sessions: Tips for Travel
  (Care Partners)\; Music from Around the World (Participants)\n\n<strong>M
 ay 24</strong>\nGroup Activity: Walking and Balance Exercise\nBreakout Ses
 sions: Caring for Your Body: Sleep (Care Partners)\; Crafting your Dream V
 acation (Participants)\n\n<strong>May 31</strong>\nGroup Activity: City Ar
 tscape\nBreakout Sessions: Assess your Stress (Care Partners)\; Iconic Lan
 dmarks (Participants)\n\n<strong>June 7</strong>\nGroup Activity: My Favor
 ite Trip\nBreakout Sessions: Developing your Care Team (Care Partners)\; D
 iscover the Blue Zones (Participants)\n\nRegistration is required\; there 
 is a short application and assessment process for the program to ensure a 
 good fit for both the caregiver and early stage participant. Please contac
 t Lindsey Vajpeyi with any questions or to register!\n\n
DTSTART;TZID=America/New_York:20220524T160000
DTEND;TZID=America/New_York:20220524T183000
LOCATION:Insight Memory Care Center - Fairfax\, 3953 Pender Drive\, Suite 1
 00\, Fairfax\, VA 20166 US
SUMMARY:Mind and Body Workshop
END:VEVENT
END:VCALENDAR
