BEGIN:VCALENDAR
VERSION:2.0
PRODID:-//www.insightmcc.org//NONSGML kigkonsult.se iCalcreator 2.30.10//
CALSCALE:GREGORIAN
METHOD:PUBLISH
UID:c1f0e268-5a3c-4da2-9fdf-5df619a50b7d
X-WR-CALDESC:Insight will be closed for Memorial Day. Enjoy your holiday!
X-WR-RELCALID:1ff425a1ce8177a5ada6feb611e339eb
X-WR-TIMEZONE:America/New_York
BEGIN:VTIMEZONE
TZID:America/New_York
BEGIN:STANDARD
TZNAME:EST
DTSTART:20211107T020000
TZOFFSETFROM:-0400
TZOFFSETTO:-0500
RDATE:20221106T020000
RDATE:20231105T020000
END:STANDARD
BEGIN:DAYLIGHT
TZNAME:EDT
DTSTART:20220313T020000
TZOFFSETFROM:-0500
TZOFFSETTO:-0400
RDATE:20230312T020000
END:DAYLIGHT
END:VTIMEZONE
BEGIN:VEVENT
UID:5d276a76-87d5-44e2-8ca2-bf16b83fde1f
DTSTAMP:20260423T031214Z
DESCRIPTION:Insight will be closed for Memorial Day. Enjoy your holiday!
DTSTART;TZID=America/New_York:20220530T000000
DTEND;TZID=America/New_York:20220530T235900
LOCATION:
SUMMARY:Insight Closed
END:VEVENT
END:VCALENDAR
