BEGIN:VCALENDAR
VERSION:2.0
PRODID:-//www.insightmcc.org//NONSGML kigkonsult.se iCalcreator 2.30.10//
CALSCALE:GREGORIAN
METHOD:PUBLISH
UID:e339a025-77c1-4e9b-a5c3-a0dd2a32967a
X-WR-CALDESC:Insight Memory Care Center will offer free\, confidential memo
 ry screenings and educational materials to people with concerns about thei
 r memory or who want to check their memory now for future comparison. \n\n
 Register for a 30 minute time slot between 10:00am-2:00pm by calling (703)
  970-3601.
X-WR-RELCALID:e43007bd8a6263e1acb3fba6824f07f3
X-WR-TIMEZONE:America/New_York
BEGIN:VTIMEZONE
TZID:America/New_York
BEGIN:STANDARD
TZNAME:EST
DTSTART:20211107T020000
TZOFFSETFROM:-0400
TZOFFSETTO:-0500
RDATE:20221106T020000
RDATE:20231105T020000
END:STANDARD
BEGIN:DAYLIGHT
TZNAME:EDT
DTSTART:20220313T020000
TZOFFSETFROM:-0500
TZOFFSETTO:-0400
RDATE:20230312T020000
END:DAYLIGHT
END:VTIMEZONE
BEGIN:VEVENT
UID:1f00f5ba-3ae2-4017-b520-1b71c2a873f6
DTSTAMP:20260423T014828Z
DESCRIPTION:Insight Memory Care Center will offer free\, confidential memor
 y screenings and educational materials to people with concerns about their
  memory or who want to check their memory now for future comparison. \n\nR
 egister for a 30 minute time slot between 10:00am-2:00pm by calling (703) 
 970-3601.
DTSTART;TZID=America/New_York:20220613T100000
DTEND;TZID=America/New_York:20220613T140000
LOCATION:Wellness Center for Older Adults (WCOA)\, 4027B Olley Lane\, Fairf
 ax \, VA 22032 US
SUMMARY:Memory Screenings
END:VEVENT
END:VCALENDAR
