BEGIN:VCALENDAR
VERSION:2.0
PRODID:-//www.insightmcc.org//NONSGML kigkonsult.se iCalcreator 2.30.10//
CALSCALE:GREGORIAN
METHOD:PUBLISH
UID:b99b6734-6e5c-4315-8d76-637ecc04ff17
X-WR-CALDESC:Goodwin House Alexandria is hosting the Brain Health Expo is t
 o celebrate Brain Awareness Month! The expo will have tables that highligh
 t Brain Health from different disciplines. Exhibitors include: Dementia Fr
 iendly Alexandria\, Stronger Memory\, Music Therapy\, Art Therapy\, Nutrit
 ion\, Fitness\, Insight Memory Care Center\, and the Alzheimer’s Associati
 on. The event is an open house style\; guests can visit any or all tables 
 of interest.\n\nNo registration is required. Please contact Goodwin House 
 with any questions prior to the event.
X-WR-RELCALID:78727f87011709921141424447bec6c4
X-WR-TIMEZONE:America/New_York
BEGIN:VTIMEZONE
TZID:America/New_York
BEGIN:STANDARD
TZNAME:EST
DTSTART:20211107T020000
TZOFFSETFROM:-0400
TZOFFSETTO:-0500
RDATE:20221106T020000
RDATE:20231105T020000
END:STANDARD
BEGIN:DAYLIGHT
TZNAME:EDT
DTSTART:20220313T020000
TZOFFSETFROM:-0500
TZOFFSETTO:-0400
RDATE:20230312T020000
END:DAYLIGHT
END:VTIMEZONE
BEGIN:VEVENT
UID:dd786f7b-025f-4a93-b75f-d7a4ad9d3021
DTSTAMP:20260423T014747Z
DESCRIPTION:Goodwin House Alexandria is hosting the Brain Health Expo is to
  celebrate Brain Awareness Month! The expo will have tables that highlight
  Brain Health from different disciplines. Exhibitors include: Dementia Fri
 endly Alexandria\, Stronger Memory\, Music Therapy\, Art Therapy\, Nutriti
 on\, Fitness\, Insight Memory Care Center\, and the Alzheimer’s Associatio
 n. The event is an open house style\; guests can visit any or all tables o
 f interest.\n\nNo registration is required. Please contact Goodwin House w
 ith any questions prior to the event.
DTSTART;TZID=America/New_York:20220614T090000
DTEND;TZID=America/New_York:20220614T120000
LOCATION:Goodwin House Alexandria\, 4800 Fillmore Ave\, Alexandria\, VA 223
 11 US
SUMMARY:Brain Health Expo
END:VEVENT
END:VCALENDAR
