BEGIN:VCALENDAR
VERSION:2.0
PRODID:-//www.insightmcc.org//NONSGML kigkonsult.se iCalcreator 2.30.10//
CALSCALE:GREGORIAN
METHOD:PUBLISH
UID:4cace63a-c329-40c5-a7ba-2277951db145
X-WR-CALDESC:Goodwin House Bailey's Crossroads is hosting the Brain Health 
 Expo is to celebrate Brain Awareness Month! The expo will have tables that
  highlight Brain Health from different disciplines. Exhibitors include: De
 mentia Friendly Alexandria\, Stronger Memory\, Music Therapy\, Art Therapy
 \, Nutrition\, Fitness\, Insight Memory Care Center\, and the Alzheimer’s 
 Association. The event is an open house style\; guests can visit any or al
 l tables of interest.\n\nNo registration is required. Please contact Goodw
 in House with any questions prior to the event.
X-WR-RELCALID:5945942457c752bf509431c4637615c8
X-WR-TIMEZONE:America/New_York
BEGIN:VTIMEZONE
TZID:America/New_York
BEGIN:STANDARD
TZNAME:EST
DTSTART:20211107T020000
TZOFFSETFROM:-0400
TZOFFSETTO:-0500
RDATE:20221106T020000
RDATE:20231105T020000
END:STANDARD
BEGIN:DAYLIGHT
TZNAME:EDT
DTSTART:20220313T020000
TZOFFSETFROM:-0500
TZOFFSETTO:-0400
RDATE:20230312T020000
END:DAYLIGHT
END:VTIMEZONE
BEGIN:VEVENT
UID:0ac03b23-9872-4b53-91a9-65d60e2c53ad
DTSTAMP:20260423T015618Z
DESCRIPTION:Goodwin House Bailey's Crossroads is hosting the Brain Health E
 xpo is to celebrate Brain Awareness Month! The expo will have tables that 
 highlight Brain Health from different disciplines. Exhibitors include: Dem
 entia Friendly Alexandria\, Stronger Memory\, Music Therapy\, Art Therapy\
 , Nutrition\, Fitness\, Insight Memory Care Center\, and the Alzheimer’s A
 ssociation. The event is an open house style\; guests can visit any or all
  tables of interest.\n\nNo registration is required. Please contact Goodwi
 n House with any questions prior to the event.
DTSTART;TZID=America/New_York:20220616T090000
DTEND;TZID=America/New_York:20220616T120000
LOCATION:Goodwin House Bailey's Crossroads\, 3440 S Jefferson St\, Falls Ch
 urch\, VA 22041 US
SUMMARY:Brain Health Expo
END:VEVENT
END:VCALENDAR
