BEGIN:VCALENDAR
VERSION:2.0
PRODID:-//www.insightmcc.org//NONSGML kigkonsult.se iCalcreator 2.30.10//
CALSCALE:GREGORIAN
METHOD:PUBLISH
UID:3df2cec8-5891-417e-a394-9f943360afee
X-WR-CALDESC:Insight will be closed for Juneteenth. Enjoy your holiday!
X-WR-RELCALID:9ca8b43fdf92b892f67392b1875b7079
X-WR-TIMEZONE:America/New_York
BEGIN:VTIMEZONE
TZID:America/New_York
BEGIN:STANDARD
TZNAME:EST
DTSTART:20211107T020000
TZOFFSETFROM:-0400
TZOFFSETTO:-0500
RDATE:20221106T020000
RDATE:20231105T020000
END:STANDARD
BEGIN:DAYLIGHT
TZNAME:EDT
DTSTART:20220313T020000
TZOFFSETFROM:-0500
TZOFFSETTO:-0400
RDATE:20230312T020000
END:DAYLIGHT
END:VTIMEZONE
BEGIN:VEVENT
UID:7a2b9441-6172-4c57-9ff1-109d78a2f354
DTSTAMP:20260423T020511Z
DESCRIPTION:Insight will be closed for Juneteenth. Enjoy your holiday!
DTSTART;TZID=America/New_York:20220620T000000
DTEND;TZID=America/New_York:20220620T235900
LOCATION:
SUMMARY:Insight Closed
END:VEVENT
END:VCALENDAR
