BEGIN:VCALENDAR
VERSION:2.0
PRODID:-//www.insightmcc.org//NONSGML kigkonsult.se iCalcreator 2.30.10//
CALSCALE:GREGORIAN
METHOD:PUBLISH
UID:3a7db060-a700-4258-9326-6166a2b531c3
X-WR-CALDESC:Insight will be closed for Independence Day. Enjoy your holida
 y!
X-WR-RELCALID:ddcebbdb1cf73ea4f0603b1bb714a8e3
X-WR-TIMEZONE:America/New_York
BEGIN:VTIMEZONE
TZID:America/New_York
BEGIN:STANDARD
TZNAME:EST
DTSTART:20211107T020000
TZOFFSETFROM:-0400
TZOFFSETTO:-0500
RDATE:20221106T020000
RDATE:20231105T020000
END:STANDARD
BEGIN:DAYLIGHT
TZNAME:EDT
DTSTART:20220313T020000
TZOFFSETFROM:-0500
TZOFFSETTO:-0400
RDATE:20230312T020000
END:DAYLIGHT
END:VTIMEZONE
BEGIN:VEVENT
UID:5f9eed91-45e0-438e-8e26-cbe2f60cf867
DTSTAMP:20260422T204430Z
DESCRIPTION:Insight will be closed for Independence Day. Enjoy your holiday
 !
DTSTART;TZID=America/New_York:20220704T000000
DTEND;TZID=America/New_York:20220704T235900
LOCATION:
SUMMARY:Insight Closed
END:VEVENT
END:VCALENDAR
