BEGIN:VCALENDAR
VERSION:2.0
PRODID:-//www.insightmcc.org//NONSGML kigkonsult.se iCalcreator 2.30.10//
CALSCALE:GREGORIAN
METHOD:PUBLISH
UID:d1b4b361-9a84-4aa2-9032-6637d81e1ae9
X-WR-CALDESC:Insight will be closed for Labor Day. Enjoy your holiday!
X-WR-RELCALID:8cf881c4c47031ee6be5789607577d04
X-WR-TIMEZONE:America/New_York
BEGIN:VTIMEZONE
TZID:America/New_York
BEGIN:STANDARD
TZNAME:EST
DTSTART:20211107T020000
TZOFFSETFROM:-0400
TZOFFSETTO:-0500
RDATE:20221106T020000
RDATE:20231105T020000
END:STANDARD
BEGIN:DAYLIGHT
TZNAME:EDT
DTSTART:20220313T020000
TZOFFSETFROM:-0500
TZOFFSETTO:-0400
RDATE:20230312T020000
END:DAYLIGHT
END:VTIMEZONE
BEGIN:VEVENT
UID:5d258823-959b-46f2-b17f-073ced6397b9
DTSTAMP:20260422T175824Z
DESCRIPTION:Insight will be closed for Labor Day. Enjoy your holiday!
DTSTART;TZID=America/New_York:20220905T000000
DTEND;TZID=America/New_York:20220905T235900
LOCATION:
SUMMARY:Insight Closed
END:VEVENT
END:VCALENDAR
