BEGIN:VCALENDAR
VERSION:2.0
PRODID:-//www.insightmcc.org//NONSGML kigkonsult.se iCalcreator 2.30.10//
CALSCALE:GREGORIAN
METHOD:PUBLISH
UID:216fad02-5d34-4a4d-8b5b-10f10187573f
X-WR-CALDESC:Join us for a little Friday fun during Adult Day Services Week
 ! We'll be holding a virtual community Sing-A-Long with Insight family mem
 ber April Wanzer. No singing talent is required\, just join us for the fun
 .\n\n\n<strong><a href='https://insightmcc.salsalabs.org/sing-a-long-09232
 022?page=register' target='_blank' class='button' rel='noreferrer noopener
 '>Register Now!</a></strong>\n
X-WR-RELCALID:9ff4529bbec2261319034209f8b2f827
X-WR-TIMEZONE:America/New_York
BEGIN:VTIMEZONE
TZID:America/New_York
BEGIN:STANDARD
TZNAME:EST
DTSTART:20211107T020000
TZOFFSETFROM:-0400
TZOFFSETTO:-0500
RDATE:20221106T020000
RDATE:20231105T020000
END:STANDARD
BEGIN:DAYLIGHT
TZNAME:EDT
DTSTART:20220313T020000
TZOFFSETFROM:-0500
TZOFFSETTO:-0400
RDATE:20230312T020000
RDATE:20240310T020000
END:DAYLIGHT
END:VTIMEZONE
BEGIN:VEVENT
UID:180dd6dc-9a46-4efa-a39c-2cd71e55cbc0
DTSTAMP:20260422T175945Z
DESCRIPTION:Join us for a little Friday fun during Adult Day Services Week!
  We'll be holding a virtual community Sing-A-Long with Insight family memb
 er April Wanzer. No singing talent is required\, just join us for the fun.
 \n\n\n<strong><a href='https://insightmcc.salsalabs.org/sing-a-long-092320
 22?page=register' target='_blank' class='button' rel='noreferrer noopener'
 >Register Now!</a></strong>\n
DTSTART;TZID=America/New_York:20220923T140000
DTEND;TZID=America/New_York:20220923T150000
LOCATION:Virtual
SUMMARY:Family Sing-A-Long
END:VEVENT
END:VCALENDAR
