BEGIN:VCALENDAR
VERSION:2.0
PRODID:-//www.insightmcc.org//NONSGML kigkonsult.se iCalcreator 2.30.10//
CALSCALE:GREGORIAN
METHOD:PUBLISH
UID:29fcb1a5-74c0-4710-a4e2-f738b5f9fb07
X-WR-CALDESC:The financial costs of long-term care and long-term caregiving
  are enormous. Explore some of your options for this important aspect \nof
  caregiving\, including more information on long term care options.\n\nThi
 s program is a bonus session of our ongoing monthly Care Partner Training 
 series\, geared towards families caring for a loved one at home. Join us e
 ach month to learn something new! All sessions are FREE\, and open to the 
 public. Classes are held the second Wednesday of each month from 1:00 to 2
 :30 pm. \n \n\n<strong><a href='https://insightmcc.salsalabs.org/carepartn
 ertraining11032022?page=register' target='_blank' class='button' rel='nore
 ferrer noopener'>Sign Me Up!</a></strong>\n \n \n
X-WR-RELCALID:1cf9b486b185b4086d6d9f22615471dc
X-WR-TIMEZONE:America/New_York
BEGIN:VTIMEZONE
TZID:America/New_York
BEGIN:STANDARD
TZNAME:EST
DTSTART:20211107T020000
TZOFFSETFROM:-0400
TZOFFSETTO:-0500
RDATE:20221106T020000
RDATE:20231105T020000
END:STANDARD
BEGIN:DAYLIGHT
TZNAME:EDT
DTSTART:20220313T020000
TZOFFSETFROM:-0500
TZOFFSETTO:-0400
RDATE:20230312T020000
RDATE:20240310T020000
END:DAYLIGHT
END:VTIMEZONE
BEGIN:VEVENT
UID:e69cfdab-2286-4258-bd29-51bf0ab49418
DTSTAMP:20260424T081822Z
DESCRIPTION:The financial costs of long-term care and long-term caregiving 
 are enormous. Explore some of your options for this important aspect \nof 
 caregiving\, including more information on long term care options.\n\nThis
  program is a bonus session of our ongoing monthly Care Partner Training s
 eries\, geared towards families caring for a loved one at home. Join us ea
 ch month to learn something new! All sessions are FREE\, and open to the p
 ublic. Classes are held the second Wednesday of each month from 1:00 to 2:
 30 pm. \n \n\n<strong><a href='https://insightmcc.salsalabs.org/carepartne
 rtraining11032022?page=register' target='_blank' class='button' rel='noref
 errer noopener'>Sign Me Up!</a></strong>\n \n \n
DTSTART;TZID=America/New_York:20221103T130000
DTEND;TZID=America/New_York:20221103T143000
LOCATION:Insight Memory Care Center - Sterling\, 45945 Center Oak Plaza\, S
 uite 190\, Sterling\, VA 20166 US
SUMMARY:Covering Dementia Care: Financial Considerations and LTC Insurance
END:VEVENT
END:VCALENDAR
