BEGIN:VCALENDAR
VERSION:2.0
PRODID:-//www.insightmcc.org//NONSGML kigkonsult.se iCalcreator 2.30.10//
CALSCALE:GREGORIAN
METHOD:PUBLISH
UID:e761b062-7e56-48fd-b5f2-62f373c2e5d4
X-WR-CALDESC:This group is specifically designed for care partners whose lo
 ved one has received a recent diagnosis of dementia or is in the early sta
 ges of the disease. Get to know other families who are in a similar situat
 ion\, while also learning caregiving tips and sharing personal concerns an
 d successes.\n\n\n<strong><a href='https://insightmcc.salsalabs.org/mcicar
 epartnersupportgroup' target='_blank' class='button' rel='noreferrer noope
 ner'>Sign Me Up!</a></strong>
X-WR-RELCALID:f6b9a4811b71e27d8a862ed8904c8c9a
X-WR-TIMEZONE:America/New_York
BEGIN:VTIMEZONE
TZID:America/New_York
BEGIN:STANDARD
TZNAME:EST
DTSTART:20221106T020000
TZOFFSETFROM:-0400
TZOFFSETTO:-0500
RDATE:20231105T020000
END:STANDARD
BEGIN:DAYLIGHT
TZNAME:EDT
DTSTART:20220313T020000
TZOFFSETFROM:-0500
TZOFFSETTO:-0400
RDATE:20230312T020000
RDATE:20240310T020000
END:DAYLIGHT
END:VTIMEZONE
BEGIN:VEVENT
UID:18b7a81f-3798-43d3-bf01-d825149fe9e1
DTSTAMP:20260422T154956Z
DESCRIPTION:This group is specifically designed for care partners whose lov
 ed one has received a recent diagnosis of dementia or is in the early stag
 es of the disease. Get to know other families who are in a similar situati
 on\, while also learning caregiving tips and sharing personal concerns and
  successes.\n\n\n<strong><a href='https://insightmcc.salsalabs.org/mcicare
 partnersupportgroup' target='_blank' class='button' rel='noreferrer noopen
 er'>Sign Me Up!</a></strong>
DTSTART;TZID=America/New_York:20221114T190000
DTEND;TZID=America/New_York:20221114T203000
LOCATION:Insight Memory Care Center - Sterling\, 45945 Center Oak Plaza\, S
 uite 190\, Sterling\, VA 20166 US
SUMMARY:MCI Care Partner Support Group - Sterling
END:VEVENT
END:VCALENDAR
