BEGIN:VCALENDAR
VERSION:2.0
PRODID:-//www.insightmcc.org//NONSGML kigkonsult.se iCalcreator 2.30.10//
CALSCALE:GREGORIAN
METHOD:PUBLISH
UID:e859de01-ef7b-4470-ab67-1f02f1b0ba39
X-WR-CALDESC:<h6>Giving Thanks to LGBTQ+ Elders SAGE Table!</h6>\n\nCome en
 joy an evening of dining and conversation. SAGE Table is an initiative lau
 nched in 2017 to fight isolation in the LGBTQ+ community through the power
  of intergenerational connections. SAGE Table events bring together people
  of all ages to share a meal and conversation. The transformative relation
 ships formed around a SAGE Table can alleviate social isolation and its co
 nsequences.\n\nYour co-hosts\, AGING RAINBOWS\, Retirement Unlimited\, and
  Insight Memory Care Center hope that members of the LGBTQ+ community and 
 allies will attend. This is a potluck event\, but those who cannot bring a
 n item should not hesitate to attend as there is always plenty for all to 
 share. The only item we really care about you bringing is yourself!\n
X-WR-RELCALID:2add8b42de8039ec08434c651f2aac32
X-WR-TIMEZONE:America/New_York
BEGIN:VTIMEZONE
TZID:America/New_York
BEGIN:STANDARD
TZNAME:EST
DTSTART:20221106T020000
TZOFFSETFROM:-0400
TZOFFSETTO:-0500
RDATE:20231105T020000
END:STANDARD
BEGIN:DAYLIGHT
TZNAME:EDT
DTSTART:20220313T020000
TZOFFSETFROM:-0500
TZOFFSETTO:-0400
RDATE:20230312T020000
RDATE:20240310T020000
END:DAYLIGHT
END:VTIMEZONE
BEGIN:VEVENT
UID:04757dd4-ae81-44f9-ba04-5fcbef580c3b
DTSTAMP:20260422T152212Z
DESCRIPTION:<h6>Giving Thanks to LGBTQ+ Elders SAGE Table!</h6>\n\nCome enj
 oy an evening of dining and conversation. SAGE Table is an initiative laun
 ched in 2017 to fight isolation in the LGBTQ+ community through the power 
 of intergenerational connections. SAGE Table events bring together people 
 of all ages to share a meal and conversation. The transformative relations
 hips formed around a SAGE Table can alleviate social isolation and its con
 sequences.\n\nYour co-hosts\, AGING RAINBOWS\, Retirement Unlimited\, and 
 Insight Memory Care Center hope that members of the LGBTQ+ community and a
 llies will attend. This is a potluck event\, but those who cannot bring an
  item should not hesitate to attend as there is always plenty for all to s
 hare. The only item we really care about you bringing is yourself!\n
DTSTART;TZID=America/New_York:20221117T170000
DTEND;TZID=America/New_York:20221117T193000
LOCATION:Insight Memory Care Center - Sterling\, 45945 Center Oak Plaza\, S
 uite 190\, Sterling\, VA 20166 US
SUMMARY:Sage Table Event
END:VEVENT
END:VCALENDAR
