BEGIN:VCALENDAR
VERSION:2.0
PRODID:-//www.insightmcc.org//NONSGML kigkonsult.se iCalcreator 2.30.10//
CALSCALE:GREGORIAN
METHOD:PUBLISH
UID:d0a56d1a-e4ee-4260-a393-0fbeba615637
X-WR-CALDESC:Insight will be closed for Thanksgiving. Enjoy your holiday!
X-WR-RELCALID:609994a98bee3ed3cab0baca82e693a8
X-WR-TIMEZONE:America/New_York
BEGIN:VTIMEZONE
TZID:America/New_York
BEGIN:STANDARD
TZNAME:EST
DTSTART:20221106T020000
TZOFFSETFROM:-0400
TZOFFSETTO:-0500
RDATE:20231105T020000
END:STANDARD
BEGIN:DAYLIGHT
TZNAME:EDT
DTSTART:20220313T020000
TZOFFSETFROM:-0500
TZOFFSETTO:-0400
RDATE:20230312T020000
RDATE:20240310T020000
END:DAYLIGHT
END:VTIMEZONE
BEGIN:VEVENT
UID:5f2a9539-f536-4c03-aeba-0fe3bc3c7f09
DTSTAMP:20260422T152147Z
DESCRIPTION:Insight will be closed for Thanksgiving. Enjoy your holiday!
DTSTART;TZID=America/New_York:20221124T000000
DTEND;TZID=America/New_York:20221125T235900
LOCATION:
SUMMARY:Insight Closed
END:VEVENT
END:VCALENDAR
