BEGIN:VCALENDAR
VERSION:2.0
PRODID:-//www.insightmcc.org//NONSGML kigkonsult.se iCalcreator 2.30.10//
CALSCALE:GREGORIAN
METHOD:PUBLISH
UID:fd61c7ed-0265-4dd0-8ce4-c6dcefc78c52
X-WR-CALDESC:Insight will be closed for Winter Holidays. Happy Holidays!
X-WR-RELCALID:7c04df9840f7a7ebcc21df2a3cc6e427
X-WR-TIMEZONE:America/New_York
BEGIN:VTIMEZONE
TZID:America/New_York
BEGIN:STANDARD
TZNAME:EST
DTSTART:20221106T020000
TZOFFSETFROM:-0400
TZOFFSETTO:-0500
RDATE:20231105T020000
END:STANDARD
BEGIN:DAYLIGHT
TZNAME:EDT
DTSTART:20220313T020000
TZOFFSETFROM:-0500
TZOFFSETTO:-0400
RDATE:20230312T020000
RDATE:20240310T020000
END:DAYLIGHT
END:VTIMEZONE
BEGIN:VEVENT
UID:0b38a4bb-07d5-43c5-9f54-4a5b9e888c21
DTSTAMP:20260422T135830Z
DESCRIPTION:Insight will be closed for Winter Holidays. Happy Holidays!
DTSTART;TZID=America/New_York:20221226T000000
DTEND;TZID=America/New_York:20221226T235900
LOCATION:
SUMMARY:Insight Closed
END:VEVENT
END:VCALENDAR
