BEGIN:VCALENDAR
VERSION:2.0
PRODID:-//www.insightmcc.org//NONSGML kigkonsult.se iCalcreator 2.30.10//
CALSCALE:GREGORIAN
METHOD:PUBLISH
UID:1cca7d47-761b-4d77-b959-770c1bac3113
X-WR-CALDESC:Join Senior Services of Alexandria for their Speaker Series\, 
 Caregiver Workshop: Strategies & Resources for Caregivers of an Older Adul
 t.\n\nYou will learn about:\n- Developing strategies & resources for carin
 g for an older adult.\n- Learning what services are available in Alexandri
 a and beyond.\n- Learning how to take care of yourself if you are a caregi
 ver.\n\nSpeakers include:\n- Melissa Long\, Insight Memory Care Center\n- 
 Mitch Opalski\, SYNERGY HomeCare\n- Arvette Reid\, Signature Estate & Inve
 stment Advisors\n- Amber Sultane\, AARP Virginia
X-WR-RELCALID:2ae5a00a4155b87ab89767f42407a2a2
X-WR-TIMEZONE:America/New_York
BEGIN:VTIMEZONE
TZID:America/New_York
BEGIN:STANDARD
TZNAME:EST
DTSTART:20221106T020000
TZOFFSETFROM:-0400
TZOFFSETTO:-0500
RDATE:20231105T020000
END:STANDARD
BEGIN:DAYLIGHT
TZNAME:EDT
DTSTART:20220313T020000
TZOFFSETFROM:-0500
TZOFFSETTO:-0400
RDATE:20230312T020000
RDATE:20240310T020000
END:DAYLIGHT
END:VTIMEZONE
BEGIN:VEVENT
UID:689b295d-fea2-4d37-b2cd-466f02ce8d27
DTSTAMP:20260422T123621Z
DESCRIPTION:Join Senior Services of Alexandria for their Speaker Series\, C
 aregiver Workshop: Strategies & Resources for Caregivers of an Older Adult
 .\n\nYou will learn about:\n- Developing strategies & resources for caring
  for an older adult.\n- Learning what services are available in Alexandria
  and beyond.\n- Learning how to take care of yourself if you are a caregiv
 er.\n\nSpeakers include:\n- Melissa Long\, Insight Memory Care Center\n- M
 itch Opalski\, SYNERGY HomeCare\n- Arvette Reid\, Signature Estate & Inves
 tment Advisors\n- Amber Sultane\, AARP Virginia
DTSTART;TZID=America/New_York:20230111T100000
DTEND;TZID=America/New_York:20230111T120000
LOCATION:Westminster Presbyterian Church\, 2701 Cameron Mills Road\, Alexan
 dria\, VA 22302 US
SUMMARY:Caregiver Workshop: Strategies & Resources for Caregivers of an Old
 er Adult
END:VEVENT
END:VCALENDAR
