BEGIN:VCALENDAR
VERSION:2.0
PRODID:-//www.insightmcc.org//NONSGML kigkonsult.se iCalcreator 2.30.10//
CALSCALE:GREGORIAN
METHOD:PUBLISH
UID:c2eeb344-3629-438a-a0aa-2db844a99f7f
X-WR-CALDESC:Insight will be closed for Martin Luther King Jr Day. Enjoy yo
 ur holiday!
X-WR-RELCALID:3c1d648afc707139a44130161a5df413
X-WR-TIMEZONE:America/New_York
BEGIN:VTIMEZONE
TZID:America/New_York
BEGIN:STANDARD
TZNAME:EST
DTSTART:20221106T020000
TZOFFSETFROM:-0400
TZOFFSETTO:-0500
RDATE:20231105T020000
END:STANDARD
BEGIN:DAYLIGHT
TZNAME:EDT
DTSTART:20220313T020000
TZOFFSETFROM:-0500
TZOFFSETTO:-0400
RDATE:20230312T020000
RDATE:20240310T020000
END:DAYLIGHT
END:VTIMEZONE
BEGIN:VEVENT
UID:7be5083e-14a9-4231-8cac-86e8f49a72a2
DTSTAMP:20260422T122802Z
DESCRIPTION:Insight will be closed for Martin Luther King Jr Day. Enjoy you
 r holiday!
DTSTART;TZID=America/New_York:20230116T000000
DTEND;TZID=America/New_York:20230116T235900
LOCATION:
SUMMARY:Insight Closed
END:VEVENT
END:VCALENDAR
