BEGIN:VCALENDAR
VERSION:2.0
PRODID:-//www.insightmcc.org//NONSGML kigkonsult.se iCalcreator 2.30.10//
CALSCALE:GREGORIAN
METHOD:PUBLISH
UID:6e021dcc-4c3d-4ef2-840d-1894d418813e
X-WR-CALDESC:Learn more about age-related changes in memory and learning\, 
 and practices to keep your brain sharp! Learn what to expect\, what’s “nor
 mal\,” and when it’s time to seek a doctor’s input.\n\nKay Yong\, Outreach
  and Education Coordinator\, will be presenting this program at the Centre
 ville Regional Library.
X-WR-RELCALID:928b01dce044ab22de6b4a6a68393912
X-WR-TIMEZONE:America/New_York
BEGIN:VTIMEZONE
TZID:America/New_York
BEGIN:STANDARD
TZNAME:EST
DTSTART:20221106T020000
TZOFFSETFROM:-0400
TZOFFSETTO:-0500
RDATE:20231105T020000
END:STANDARD
BEGIN:DAYLIGHT
TZNAME:EDT
DTSTART:20220313T020000
TZOFFSETFROM:-0500
TZOFFSETTO:-0400
RDATE:20230312T020000
RDATE:20240310T020000
END:DAYLIGHT
END:VTIMEZONE
BEGIN:VEVENT
UID:ae94c729-28ed-4c52-9a99-3557bc86c1b6
DTSTAMP:20260422T110459Z
DESCRIPTION:Learn more about age-related changes in memory and learning\, a
 nd practices to keep your brain sharp! Learn what to expect\, what’s “norm
 al\,” and when it’s time to seek a doctor’s input.\n\nKay Yong\, Outreach 
 and Education Coordinator\, will be presenting this program at the Centrev
 ille Regional Library.
DTSTART;TZID=America/New_York:20230203T103000
DTEND;TZID=America/New_York:20230203T120000
LOCATION:Centreville Regional Library\, 14200 St. Germain Drive\, Centrevil
 le\, VA 20121 US
SUMMARY:Better Brain Health as You Age
END:VEVENT
END:VCALENDAR
