BEGIN:VCALENDAR
VERSION:2.0
PRODID:-//www.insightmcc.org//NONSGML kigkonsult.se iCalcreator 2.30.10//
CALSCALE:GREGORIAN
METHOD:PUBLISH
UID:e49abcc4-8ec0-42d3-b533-ab66a6110fe2
X-WR-CALDESC:Learn more about age-related changes in memory and learning\, 
 and practices to keep your brain sharp! Learn what to expect\, what’s “nor
 mal\,” and when it’s time to seek a doctor’s input.\n\nKay Yong\, Outreach
  and Education Coordinator\, will be presenting this program at Arcola Chu
 rch in Sterling.
X-WR-RELCALID:30e7279785e85f50dba026e295e210b6
X-WR-TIMEZONE:America/New_York
BEGIN:VTIMEZONE
TZID:America/New_York
BEGIN:STANDARD
TZNAME:EST
DTSTART:20221106T020000
TZOFFSETFROM:-0400
TZOFFSETTO:-0500
RDATE:20231105T020000
END:STANDARD
BEGIN:DAYLIGHT
TZNAME:EDT
DTSTART:20220313T020000
TZOFFSETFROM:-0500
TZOFFSETTO:-0400
RDATE:20230312T020000
RDATE:20240310T020000
END:DAYLIGHT
END:VTIMEZONE
BEGIN:VEVENT
UID:e658ba09-4722-46bd-b8a9-570b1ba54f25
DTSTAMP:20260422T110534Z
DESCRIPTION:Learn more about age-related changes in memory and learning\, a
 nd practices to keep your brain sharp! Learn what to expect\, what’s “norm
 al\,” and when it’s time to seek a doctor’s input.\n\nKay Yong\, Outreach 
 and Education Coordinator\, will be presenting this program at Arcola Chur
 ch in Sterling.
DTSTART;TZID=America/New_York:20230205T100000
DTEND;TZID=America/New_York:20230205T110000
LOCATION:Arcola Church\, 24757 Arcola Mills Drive\, Sterling\, VA 20166 US
SUMMARY:Better Brain Health as You Age
END:VEVENT
END:VCALENDAR
