BEGIN:VCALENDAR
VERSION:2.0
PRODID:-//www.insightmcc.org//NONSGML kigkonsult.se iCalcreator 2.30.10//
CALSCALE:GREGORIAN
METHOD:PUBLISH
UID:69b5f6f0-9894-425b-ab02-e211e07c4285
X-WR-CALDESC:This group is specifically designed for the unique needs\, cha
 llenges and experiences of LGBTQ+ care partners for individuals living wit
 h dementia. Get to know others in a safe space\, and have the opportunity 
 to share personal concerns and successes. This group is offered in partner
 ship with Aging Rainbows.\n\nThis group meets at Insight - Fairfax on the 
 fourth Wednesday. All support groups are free and open to the public. Plea
 se register and you'll receive reminders to join us!\n\n&nbsp\;\n<strong><
 a href='https://insightmcc.salsalabs.org/lgbtqsupportgroup' target='_blank
 ' class='button' rel='noreferrer noopener'>Sign Me Up!</a></strong>
X-WR-RELCALID:c59186857c6640bfbd2ac976f75a991e
X-WR-TIMEZONE:America/New_York
BEGIN:VTIMEZONE
TZID:America/New_York
BEGIN:STANDARD
TZNAME:EST
DTSTART:20221106T020000
TZOFFSETFROM:-0400
TZOFFSETTO:-0500
RDATE:20231105T020000
END:STANDARD
BEGIN:DAYLIGHT
TZNAME:EDT
DTSTART:20220313T020000
TZOFFSETFROM:-0500
TZOFFSETTO:-0400
RDATE:20230312T020000
RDATE:20240310T020000
END:DAYLIGHT
END:VTIMEZONE
BEGIN:VEVENT
UID:c7bad495-d258-4503-8a15-e2c13e448a61
DTSTAMP:20260422T110500Z
DESCRIPTION:This group is specifically designed for the unique needs\, chal
 lenges and experiences of LGBTQ+ care partners for individuals living with
  dementia. Get to know others in a safe space\, and have the opportunity t
 o share personal concerns and successes. This group is offered in partners
 hip with Aging Rainbows.\n\nThis group meets at Insight - Fairfax on the f
 ourth Wednesday. All support groups are free and open to the public. Pleas
 e register and you'll receive reminders to join us!\n\n&nbsp\;\n<strong><a
  href='https://insightmcc.salsalabs.org/lgbtqsupportgroup' target='_blank'
  class='button' rel='noreferrer noopener'>Sign Me Up!</a></strong>
DTSTART;TZID=America/New_York:20230222T130000
DTEND;TZID=America/New_York:20230222T140000
LOCATION:Insight Memory Care Center\, 3955 Pender Drive\, Suite 100\, Fairf
 ax\, VA 22030 US
SUMMARY:LBGTQ+ Care Partner Support Group
END:VEVENT
END:VCALENDAR
