BEGIN:VCALENDAR
VERSION:2.0
PRODID:-//www.insightmcc.org//NONSGML kigkonsult.se iCalcreator 2.30.10//
CALSCALE:GREGORIAN
METHOD:PUBLISH
UID:662641c4-b32f-4dfb-ae78-b5e2dd5bbeb1
X-WR-CALDESC:Learn more about age-related changes in memory and learning\, 
 and practices to keep your brain sharp! Learn what to expect\, what’s “nor
 mal\,” and when it’s time to seek a doctor’s input.\n\nKay Yong\, Outreach
  and Education Coordinator\, will be presenting this program at the Arling
 ton Mill Senior Center.
X-WR-RELCALID:42eb081a65f5b1a38fd73de4f766be6f
X-WR-TIMEZONE:America/New_York
BEGIN:VTIMEZONE
TZID:America/New_York
BEGIN:STANDARD
TZNAME:EST
DTSTART:20221106T020000
TZOFFSETFROM:-0400
TZOFFSETTO:-0500
RDATE:20231105T020000
END:STANDARD
BEGIN:DAYLIGHT
TZNAME:EDT
DTSTART:20220313T020000
TZOFFSETFROM:-0500
TZOFFSETTO:-0400
RDATE:20230312T020000
RDATE:20240310T020000
END:DAYLIGHT
END:VTIMEZONE
BEGIN:VEVENT
UID:4ce6dbea-ba99-49cb-ae18-557107684ae6
DTSTAMP:20260422T110534Z
DESCRIPTION:Learn more about age-related changes in memory and learning\, a
 nd practices to keep your brain sharp! Learn what to expect\, what’s “norm
 al\,” and when it’s time to seek a doctor’s input.\n\nKay Yong\, Outreach 
 and Education Coordinator\, will be presenting this program at the Arlingt
 on Mill Senior Center.
DTSTART;TZID=America/New_York:20230222T120000
DTEND;TZID=America/New_York:20230222T130000
LOCATION:Arlington Mill Senior Center\, 909 S Dinwiddie St\, Arlington\, VA
  22204 US
SUMMARY:Better Brain Health as You Age
END:VEVENT
END:VCALENDAR
