BEGIN:VCALENDAR
VERSION:2.0
PRODID:-//www.insightmcc.org//NONSGML kigkonsult.se iCalcreator 2.30.10//
CALSCALE:GREGORIAN
METHOD:PUBLISH
UID:0cd06196-7c90-44be-ab6e-b3158697cb9c
X-WR-CALDESC:The Mind and Body Workshop provides innovative interventions f
 or families who have an early diagnosis of Alzheimer’s disease or another 
 memory impairment. The workshop is a 4 session program series for both the
  care partner and the early stage individual to participate\, promoting so
 cial engagement and peer support\, while adjusting to life with a new diag
 nosis. \n\n<h6>Healthy Living Session</h6>\nThis session will be offered w
 eekly at Insight Memory Care Center - Sterling from 4:00 to 6:30 pm. All p
 articipants will need to provide proof of vaccination before the first ses
 sion. Each session will be limited to 8 couples\, both to allow for social
  distancing\, but the small group also fosters connection and allows every
 one time to participate! Session activities include:\n\n<strong>March 7</s
 trong>\nGroup Activity: Goal Setting for a Healthier You\nBreakout Session
 s: Dementia Basics (Care Partners)\; Nurture Social Connections (Participa
 nts)\n\n<strong>March 14</strong>\nGroup Activity: Keep Moving\nBreakout S
 essions: Home Safety (Care Partners)\; Improve Your Balance (Participants)
 \n\n<strong>March 21</strong>\nGroup Activity: Easy Cooking\nBreakout Sess
 ions: Coping with Stress (Care Partners)\; Weird & Wonderful Diets (Partic
 ipants)\n\n<strong>March 28</strong>\nGroup Activity: It's All Fun & Games
 \nBreakout Sessions: Seeking Joy (Care Partners)\; Tips for Daily Life (Pa
 rticipants)\n\nRegistration is required\; there is a short application and
  assessment process for the program to ensure a good fit for both the care
 giver and early stage participant. Please contact Lindsey Vajpeyi with any
  questions or to register!\n
X-WR-RELCALID:27f046767e45f79bf8e5451c74fe19cf
X-WR-TIMEZONE:America/New_York
BEGIN:VTIMEZONE
TZID:America/New_York
BEGIN:STANDARD
TZNAME:EST
DTSTART:20221106T020000
TZOFFSETFROM:-0400
TZOFFSETTO:-0500
RDATE:20231105T020000
END:STANDARD
BEGIN:DAYLIGHT
TZNAME:EDT
DTSTART:20230312T020000
TZOFFSETFROM:-0500
TZOFFSETTO:-0400
RDATE:20240310T020000
END:DAYLIGHT
END:VTIMEZONE
BEGIN:VEVENT
UID:2a96e78a-ca14-45f3-b70f-3380e2e294f7
DTSTAMP:20260422T093636Z
DESCRIPTION:The Mind and Body Workshop provides innovative interventions fo
 r families who have an early diagnosis of Alzheimer’s disease or another m
 emory impairment. The workshop is a 4 session program series for both the 
 care partner and the early stage individual to participate\, promoting soc
 ial engagement and peer support\, while adjusting to life with a new diagn
 osis. \n\n<h6>Healthy Living Session</h6>\nThis session will be offered we
 ekly at Insight Memory Care Center - Sterling from 4:00 to 6:30 pm. All pa
 rticipants will need to provide proof of vaccination before the first sess
 ion. Each session will be limited to 8 couples\, both to allow for social 
 distancing\, but the small group also fosters connection and allows everyo
 ne time to participate! Session activities include:\n\n<strong>March 7</st
 rong>\nGroup Activity: Goal Setting for a Healthier You\nBreakout Sessions
 : Dementia Basics (Care Partners)\; Nurture Social Connections (Participan
 ts)\n\n<strong>March 14</strong>\nGroup Activity: Keep Moving\nBreakout Se
 ssions: Home Safety (Care Partners)\; Improve Your Balance (Participants)
 \n\n<strong>March 21</strong>\nGroup Activity: Easy Cooking\nBreakout Sess
 ions: Coping with Stress (Care Partners)\; Weird & Wonderful Diets (Partic
 ipants)\n\n<strong>March 28</strong>\nGroup Activity: It's All Fun & Games
 \nBreakout Sessions: Seeking Joy (Care Partners)\; Tips for Daily Life (Pa
 rticipants)\n\nRegistration is required\; there is a short application and
  assessment process for the program to ensure a good fit for both the care
 giver and early stage participant. Please contact Lindsey Vajpeyi with any
  questions or to register!\n
DTSTART;TZID=America/New_York:20230314T160000
DTEND;TZID=America/New_York:20230314T183000
LOCATION:Insight Memory Care Center - Sterling\, 45945 Center Oak Plaza\, S
 uite 190\, Sterling\, VA 20166 US
SUMMARY:Mind and Body Workshop
END:VEVENT
END:VCALENDAR
