BEGIN:VCALENDAR
VERSION:2.0
PRODID:-//www.insightmcc.org//NONSGML kigkonsult.se iCalcreator 2.30.10//
CALSCALE:GREGORIAN
METHOD:PUBLISH
UID:e1eca686-42fc-4d12-88fc-d6f006b6a418
X-WR-CALDESC:Learn more about age-related changes in memory and learning\, 
 and practices to keep your brain sharp! Learn what to expect\, what’s “nor
 mal\,” and when it’s time to seek a doctor’s input.\n\nKay Yong\, Outreach
  and Education Coordinator\, will be presenting this program at the Vienna
  Community Center.
X-WR-RELCALID:b7db54db08166524f6f87e9119df92dc
X-WR-TIMEZONE:America/New_York
BEGIN:VTIMEZONE
TZID:America/New_York
BEGIN:STANDARD
TZNAME:EST
DTSTART:20221106T020000
TZOFFSETFROM:-0400
TZOFFSETTO:-0500
RDATE:20231105T020000
END:STANDARD
BEGIN:DAYLIGHT
TZNAME:EDT
DTSTART:20230312T020000
TZOFFSETFROM:-0500
TZOFFSETTO:-0400
RDATE:20240310T020000
END:DAYLIGHT
END:VTIMEZONE
BEGIN:VEVENT
UID:aec0b07b-90b4-44f7-8b25-f08f5a0056f2
DTSTAMP:20260422T093636Z
DESCRIPTION:Learn more about age-related changes in memory and learning\, a
 nd practices to keep your brain sharp! Learn what to expect\, what’s “norm
 al\,” and when it’s time to seek a doctor’s input.\n\nKay Yong\, Outreach 
 and Education Coordinator\, will be presenting this program at the Vienna 
 Community Center.
DTSTART;TZID=America/New_York:20230320T100000
DTEND;TZID=America/New_York:20230320T110000
LOCATION:Vienna Community Center\, 120 Cherry St SE\, Vienna\, VA 22180 US
SUMMARY:Better Brain Health as you Age
END:VEVENT
END:VCALENDAR
