BEGIN:VCALENDAR
VERSION:2.0
PRODID:-//www.insightmcc.org//NONSGML kigkonsult.se iCalcreator 2.30.10//
CALSCALE:GREGORIAN
METHOD:PUBLISH
UID:c1584818-3a39-4861-bf9a-445491d0a224
X-WR-CALDESC:All are welcome to attend this support group for family and fr
 iends of those with dementia and other memory impairments. This group allo
 ws care partners to problem-solve\, discuss issues\, and connect with each
  other regarding dementia in every-day life. This group will also include 
 practical resources and guest speakers throughout the year.\n\nThis group 
 meets virtually on the first and third Thursdays. All support groups are f
 ree and open to the public. Please register and you'll receive Zoom inform
 ation to join!\n\n&nbsp\;\n<strong><a href='https://insightmcc.salsalabs.o
 rg/communitysupportgroup/index.html' target='_blank' class='button' rel='n
 oreferrer noopener'>Sign Me Up!</a></strong>
X-WR-RELCALID:8fc3c8426639630a1ff1ec80af7d60bb
X-WR-TIMEZONE:America/New_York
BEGIN:VTIMEZONE
TZID:America/New_York
BEGIN:STANDARD
TZNAME:EST
DTSTART:20221106T020000
TZOFFSETFROM:-0400
TZOFFSETTO:-0500
RDATE:20231105T020000
RDATE:20241103T020000
END:STANDARD
BEGIN:DAYLIGHT
TZNAME:EDT
DTSTART:20230312T020000
TZOFFSETFROM:-0500
TZOFFSETTO:-0400
RDATE:20240310T020000
END:DAYLIGHT
END:VTIMEZONE
BEGIN:VEVENT
UID:8ee64848-f98b-43e6-882e-b969ce87211f
DTSTAMP:20260422T070147Z
DESCRIPTION:All are welcome to attend this support group for family and fri
 ends of those with dementia and other memory impairments. This group allow
 s care partners to problem-solve\, discuss issues\, and connect with each 
 other regarding dementia in every-day life. This group will also include p
 ractical resources and guest speakers throughout the year.\n\nThis group m
 eets virtually on the first and third Thursdays. All support groups are fr
 ee and open to the public. Please register and you'll receive Zoom informa
 tion to join!\n\n&nbsp\;\n<strong><a href='https://insightmcc.salsalabs.or
 g/communitysupportgroup/index.html' target='_blank' class='button' rel='no
 referrer noopener'>Sign Me Up!</a></strong>
DTSTART;TZID=America/New_York:20230518T140000
DTEND;TZID=America/New_York:20230518T153000
LOCATION:Virtual
SUMMARY:Dementia Support Group
END:VEVENT
END:VCALENDAR
