BEGIN:VCALENDAR
VERSION:2.0
PRODID:-//www.insightmcc.org//NONSGML kigkonsult.se iCalcreator 2.30.10//
CALSCALE:GREGORIAN
METHOD:PUBLISH
UID:756ea519-8744-4d00-a051-35302cc2b93b
X-WR-CALDESC:This group is specifically designed for the unique needs\, cha
 llenges and experiences of LGBTQ+ care partners for individuals living wit
 h dementia. Get to know others in a safe space\, and have the opportunity 
 to share personal concerns and successes.  This group is led by Rev. Dawn 
 Jefferson.\n\nThis group meets at Insight - Fairfax on the fourth Wednesda
 y. All support groups are free and open to the public. Please register and
  you'll receive reminders to join us!\n\n&nbsp\;\n<strong><a href='https:/
 /insightmcc.salsalabs.org/lgbtqsupportgroup' target='_blank' class='button
 ' rel='noreferrer noopener'>Sign Me Up!</a></strong>
X-WR-RELCALID:137663a0b5956d830ff8be4b09f80f2b
X-WR-TIMEZONE:America/New_York
BEGIN:VTIMEZONE
TZID:America/New_York
BEGIN:STANDARD
TZNAME:EST
DTSTART:20221106T020000
TZOFFSETFROM:-0400
TZOFFSETTO:-0500
RDATE:20231105T020000
RDATE:20241103T020000
END:STANDARD
BEGIN:DAYLIGHT
TZNAME:EDT
DTSTART:20230312T020000
TZOFFSETFROM:-0500
TZOFFSETTO:-0400
RDATE:20240310T020000
END:DAYLIGHT
END:VTIMEZONE
BEGIN:VEVENT
UID:163454d5-cd92-4d5a-a4aa-25f4f9093250
DTSTAMP:20260422T070106Z
DESCRIPTION:This group is specifically designed for the unique needs\, chal
 lenges and experiences of LGBTQ+ care partners for individuals living with
  dementia. Get to know others in a safe space\, and have the opportunity t
 o share personal concerns and successes.  This group is led by Rev. Dawn J
 efferson.\n\nThis group meets at Insight - Fairfax on the fourth Wednesday
 . All support groups are free and open to the public. Please register and 
 you'll receive reminders to join us!\n\n&nbsp\;\n<strong><a href='https://
 insightmcc.salsalabs.org/lgbtqsupportgroup' target='_blank' class='button'
  rel='noreferrer noopener'>Sign Me Up!</a></strong>
DTSTART;TZID=America/New_York:20230524T130000
DTEND;TZID=America/New_York:20230524T140000
LOCATION:Insight Memory Care Center\, 3955 Pender Drive\, Suite 100\, Fairf
 ax\, VA 22030 US
SUMMARY:LBGTQ+ Care Partner Support Group
END:VEVENT
END:VCALENDAR
