BEGIN:VCALENDAR
VERSION:2.0
PRODID:-//www.insightmcc.org//NONSGML kigkonsult.se iCalcreator 2.30.10//
CALSCALE:GREGORIAN
METHOD:PUBLISH
UID:d4848694-1ac6-4001-a683-e329c0efb579
X-WR-CALDESC:Insight will be closed for Memorial Day. Enjoy your holiday!
X-WR-RELCALID:e83f88eee358b14e2b02f935d8337f6f
X-WR-TIMEZONE:America/New_York
BEGIN:VTIMEZONE
TZID:America/New_York
BEGIN:STANDARD
TZNAME:EST
DTSTART:20221106T020000
TZOFFSETFROM:-0400
TZOFFSETTO:-0500
RDATE:20231105T020000
RDATE:20241103T020000
END:STANDARD
BEGIN:DAYLIGHT
TZNAME:EDT
DTSTART:20230312T020000
TZOFFSETFROM:-0500
TZOFFSETTO:-0400
RDATE:20240310T020000
END:DAYLIGHT
END:VTIMEZONE
BEGIN:VEVENT
UID:1495a36d-63cf-47b7-a20e-cee0c12f8968
DTSTAMP:20260422T063806Z
DESCRIPTION:Insight will be closed for Memorial Day. Enjoy your holiday!
DTSTART;TZID=America/New_York:20230529T000000
DTEND;TZID=America/New_York:20230529T235900
LOCATION:
SUMMARY:Insight Closed
END:VEVENT
END:VCALENDAR
