BEGIN:VCALENDAR
VERSION:2.0
PRODID:-//www.insightmcc.org//NONSGML kigkonsult.se iCalcreator 2.30.10//
CALSCALE:GREGORIAN
METHOD:PUBLISH
UID:0b46b028-0262-4ef4-8677-a30a9af093d3
X-WR-CALDESC:The Mind and Body Workshop provides innovative interventions f
 or families who have an early diagnosis of Alzheimer’s disease or another 
 memory impairment. The workshop is a 3 session program series for both the
  care partner and the early stage individual to participate\, promoting so
 cial engagement and peer support\, while adjusting to life with a new diag
 nosis. \n\n<h6>June Session</h6>\nThis session will be offered weekly at t
 he Ashleigh at Lansdowne from 10:30 am to 12:00 pm. All participants will 
 need to provide proof of vaccination before the first session. Each sessio
 n will be limited to 8 couples\, both to allow for social distancing\, but
  the small group also fosters connection and allows everyone time to parti
 cipate! Session activities include:\n\n<strong>June 2</strong>\nGroup Acti
 vity: Brain Health as we Age\nBreakout Sessions: Dementia 101 (Care Partne
 rs)\; Music & Memory (Participants)\n\n<strong>June 9</strong>\nGroup Acti
 vity: About Us Collages\nBreakout Sessions: Making the Most of a Doctor Vi
 sit (Care Partners)\; Move Your Body! (Participants)\n\n<strong>June 16</s
 trong>\nGroup Activity: Developing Connections\nBreakout Sessions: Steps a
 fter Diagnosis (Care Partners)\; The Act of Journaling (Participants)\n\nR
 egistration is required\; there is a short application and assessment proc
 ess for the program to ensure a good fit for both the caregiver and early 
 stage participant. Please contact Lindsey Vajpeyi with any questions or to
  register!\n\nCost for the full workshop session for both participants is 
 $250.\n\n
X-WR-RELCALID:0545133fdfd128d90e80252f9086cba5
X-WR-TIMEZONE:America/New_York
BEGIN:VTIMEZONE
TZID:America/New_York
BEGIN:STANDARD
TZNAME:EST
DTSTART:20221106T020000
TZOFFSETFROM:-0400
TZOFFSETTO:-0500
RDATE:20231105T020000
RDATE:20241103T020000
END:STANDARD
BEGIN:DAYLIGHT
TZNAME:EDT
DTSTART:20230312T020000
TZOFFSETFROM:-0500
TZOFFSETTO:-0400
RDATE:20240310T020000
END:DAYLIGHT
END:VTIMEZONE
BEGIN:VEVENT
UID:6b9bca0b-2a85-48b6-8140-d57b794ce9cf
DTSTAMP:20260422T052742Z
DESCRIPTION:The Mind and Body Workshop provides innovative interventions fo
 r families who have an early diagnosis of Alzheimer’s disease or another m
 emory impairment. The workshop is a 3 session program series for both the 
 care partner and the early stage individual to participate\, promoting soc
 ial engagement and peer support\, while adjusting to life with a new diagn
 osis. \n\n<h6>June Session</h6>\nThis session will be offered weekly at th
 e Ashleigh at Lansdowne from 10:30 am to 12:00 pm. All participants will n
 eed to provide proof of vaccination before the first session. Each session
  will be limited to 8 couples\, both to allow for social distancing\, but 
 the small group also fosters connection and allows everyone time to partic
 ipate! Session activities include:\n\n<strong>June 2</strong>\nGroup Activ
 ity: Brain Health as we Age\nBreakout Sessions: Dementia 101 (Care Partner
 s)\; Music & Memory (Participants)\n\n<strong>June 9</strong>\nGroup Activ
 ity: About Us Collages\nBreakout Sessions: Making the Most of a Doctor Vis
 it (Care Partners)\; Move Your Body! (Participants)\n\n<strong>June 16</st
 rong>\nGroup Activity: Developing Connections\nBreakout Sessions: Steps af
 ter Diagnosis (Care Partners)\; The Act of Journaling (Participants)\n\nRe
 gistration is required\; there is a short application and assessment proce
 ss for the program to ensure a good fit for both the caregiver and early s
 tage participant. Please contact Lindsey Vajpeyi with any questions or to 
 register!\n\nCost for the full workshop session for both participants is $
 250.\n\n
DTSTART;TZID=America/New_York:20230616T103000
DTEND;TZID=America/New_York:20230616T120000
LOCATION:The Ashleigh at Lansdowne\, 44124 Woodridge Pkwy\, Leesburg\, VA 2
 0176 US
SUMMARY:Mind and Body Workshop
END:VEVENT
END:VCALENDAR
