BEGIN:VCALENDAR
VERSION:2.0
PRODID:-//www.insightmcc.org//NONSGML kigkonsult.se iCalcreator 2.30.10//
CALSCALE:GREGORIAN
METHOD:PUBLISH
UID:13a4d2e9-60ec-4892-9bcf-613c23debbbd
X-WR-CALDESC:Insight will be closed for Juneteenth. Enjoy your holiday!
X-WR-RELCALID:ca15e7265ec661d2e0765c2cd5371de5
X-WR-TIMEZONE:America/New_York
BEGIN:VTIMEZONE
TZID:America/New_York
BEGIN:STANDARD
TZNAME:EST
DTSTART:20221106T020000
TZOFFSETFROM:-0400
TZOFFSETTO:-0500
RDATE:20231105T020000
RDATE:20241103T020000
END:STANDARD
BEGIN:DAYLIGHT
TZNAME:EDT
DTSTART:20230312T020000
TZOFFSETFROM:-0500
TZOFFSETTO:-0400
RDATE:20240310T020000
END:DAYLIGHT
END:VTIMEZONE
BEGIN:VEVENT
UID:3f60504d-8e4e-449c-8655-d24840d8b14a
DTSTAMP:20260422T052437Z
DESCRIPTION:Insight will be closed for Juneteenth. Enjoy your holiday!
DTSTART;TZID=America/New_York:20230619T000000
DTEND;TZID=America/New_York:20230619T235900
LOCATION:
SUMMARY:Insight Closed
END:VEVENT
END:VCALENDAR
