BEGIN:VCALENDAR
VERSION:2.0
PRODID:-//www.insightmcc.org//NONSGML kigkonsult.se iCalcreator 2.30.10//
CALSCALE:GREGORIAN
METHOD:PUBLISH
UID:bfb1ed50-737b-4394-8d4f-df07f79ba852
X-WR-CALDESC:Insight will be closed for Independence Day. Enjoy your holida
 y!
X-WR-RELCALID:72871008411db166c3ed028bccbe4699
X-WR-TIMEZONE:America/New_York
BEGIN:VTIMEZONE
TZID:America/New_York
BEGIN:STANDARD
TZNAME:EST
DTSTART:20221106T020000
TZOFFSETFROM:-0400
TZOFFSETTO:-0500
RDATE:20231105T020000
RDATE:20241103T020000
END:STANDARD
BEGIN:DAYLIGHT
TZNAME:EDT
DTSTART:20230312T020000
TZOFFSETFROM:-0500
TZOFFSETTO:-0400
RDATE:20240310T020000
END:DAYLIGHT
END:VTIMEZONE
BEGIN:VEVENT
UID:e528285d-b3c0-491f-a6c8-a2b67d069a68
DTSTAMP:20260422T040941Z
DESCRIPTION:Insight will be closed for Independence Day. Enjoy your holiday
 !
DTSTART;TZID=America/New_York:20230704T000000
DTEND;TZID=America/New_York:20230704T235900
LOCATION:
SUMMARY:Insight Closed
END:VEVENT
END:VCALENDAR
