BEGIN:VCALENDAR
VERSION:2.0
PRODID:-//www.insightmcc.org//NONSGML kigkonsult.se iCalcreator 2.30.10//
CALSCALE:GREGORIAN
METHOD:PUBLISH
UID:77979e51-116b-4c8c-96f6-707354c74f99
X-WR-CALDESC:Caregiving is not a vacation most days\, but there are many le
 ssons from “cruising” that can be applied! Come aboard the Insight of the 
 Seas for caregiving tips learned from IMCC’s Caregiver Cruise.\n
X-WR-RELCALID:36b6efd81bd0733a3772f0f7811f09ca
X-WR-TIMEZONE:America/New_York
BEGIN:VTIMEZONE
TZID:America/New_York
BEGIN:STANDARD
TZNAME:EST
DTSTART:20221106T020000
TZOFFSETFROM:-0400
TZOFFSETTO:-0500
RDATE:20231105T020000
RDATE:20241103T020000
END:STANDARD
BEGIN:DAYLIGHT
TZNAME:EDT
DTSTART:20230312T020000
TZOFFSETFROM:-0500
TZOFFSETTO:-0400
RDATE:20240310T020000
END:DAYLIGHT
END:VTIMEZONE
BEGIN:VEVENT
UID:187f61ad-c380-4cfb-b397-6b86aca7ee20
DTSTAMP:20260422T041932Z
DESCRIPTION:Caregiving is not a vacation most days\, but there are many les
 sons from “cruising” that can be applied! Come aboard the Insight of the S
 eas for caregiving tips learned from IMCC’s Caregiver Cruise.\n
DTSTART;TZID=America/New_York:20230712T180000
DTEND;TZID=America/New_York:20230712T190000
LOCATION:The Kensington Reston\, 11501 Sunrise Valley Dr\, Reston\, VA 2019
 1 US
SUMMARY:Caregiving Like You're on a Cruise
END:VEVENT
END:VCALENDAR
