BEGIN:VCALENDAR
VERSION:2.0
PRODID:-//www.insightmcc.org//NONSGML kigkonsult.se iCalcreator 2.30.10//
CALSCALE:GREGORIAN
METHOD:PUBLISH
UID:e8042a64-42c7-44a1-b681-06d63856ab83
X-WR-CALDESC:Learn more about age-related changes in memory and learning\, 
 and practices to keep your brain sharp! Learn what to expect\, what’s “nor
 mal\,” and when it’s time to seek a doctor’s input.\n\nThis program is pre
 sented by the Insight Memory Care Team at the Wellness Center for Older Ad
 ults.
X-WR-RELCALID:91d18d09e52d459af4745c1d59fb2d87
X-WR-TIMEZONE:America/New_York
BEGIN:VTIMEZONE
TZID:America/New_York
BEGIN:STANDARD
TZNAME:EST
DTSTART:20221106T020000
TZOFFSETFROM:-0400
TZOFFSETTO:-0500
RDATE:20231105T020000
RDATE:20241103T020000
END:STANDARD
BEGIN:DAYLIGHT
TZNAME:EDT
DTSTART:20230312T020000
TZOFFSETFROM:-0500
TZOFFSETTO:-0400
RDATE:20240310T020000
END:DAYLIGHT
END:VTIMEZONE
BEGIN:VEVENT
UID:2852e043-e8ca-422f-946b-9f785abecf51
DTSTAMP:20260422T041108Z
DESCRIPTION:Learn more about age-related changes in memory and learning\, a
 nd practices to keep your brain sharp! Learn what to expect\, what’s “norm
 al\,” and when it’s time to seek a doctor’s input.\n\nThis program is pres
 ented by the Insight Memory Care Team at the Wellness Center for Older Adu
 lts.
DTSTART;TZID=America/New_York:20230718T130000
DTEND;TZID=America/New_York:20230718T140000
LOCATION:Wellness Center for Older Adults\, 4027B Olley Lane\, Fairfax\, VA
  22032 US
SUMMARY:Better Brain Health as You Age
END:VEVENT
END:VCALENDAR
