BEGIN:VCALENDAR
VERSION:2.0
PRODID:-//www.insightmcc.org//NONSGML kigkonsult.se iCalcreator 2.30.10//
CALSCALE:GREGORIAN
METHOD:PUBLISH
UID:88f7ce2c-e208-4d54-926d-b0287725b64b
X-WR-CALDESC:Learn more about age-related changes in memory and learning\, 
 and practices to keep your brain sharp! Learn what to expect\, what’s “nor
 mal\,” and when it’s time to seek a doctor’s input.\n\nThis program is pre
 sented by the Insight Memory Care Team at the Lorton Community Center.
X-WR-RELCALID:d43c2e93369fd8256bb0ecbb85d105aa
X-WR-TIMEZONE:America/New_York
BEGIN:VTIMEZONE
TZID:America/New_York
BEGIN:STANDARD
TZNAME:EST
DTSTART:20221106T020000
TZOFFSETFROM:-0400
TZOFFSETTO:-0500
RDATE:20231105T020000
RDATE:20241103T020000
END:STANDARD
BEGIN:DAYLIGHT
TZNAME:EDT
DTSTART:20230312T020000
TZOFFSETFROM:-0500
TZOFFSETTO:-0400
RDATE:20240310T020000
END:DAYLIGHT
END:VTIMEZONE
BEGIN:VEVENT
UID:d3e5fcb9-bb79-4932-929f-06764f225b19
DTSTAMP:20260422T041531Z
DESCRIPTION:Learn more about age-related changes in memory and learning\, a
 nd practices to keep your brain sharp! Learn what to expect\, what’s “norm
 al\,” and when it’s time to seek a doctor’s input.\n\nThis program is pres
 ented by the Insight Memory Care Team at the Lorton Community Center.
DTSTART;TZID=America/New_York:20230719T110000
DTEND;TZID=America/New_York:20230719T120000
LOCATION:Lorton Community Center\,  9520 Richmond Highway\, Lorton\, VA 220
 79 US
SUMMARY:Better Brain Health as You Age
END:VEVENT
END:VCALENDAR
