BEGIN:VCALENDAR
VERSION:2.0
PRODID:-//www.insightmcc.org//NONSGML kigkonsult.se iCalcreator 2.30.10//
CALSCALE:GREGORIAN
METHOD:PUBLISH
UID:1f1e3c34-328b-4fe2-b523-bb3c46bbad5c
X-WR-CALDESC:When you think of fitness\, you probably picture weights or ru
 nning. We all know the importance of staying active\, but what about brain
  fitness? There are many activities and cognitive interventions that can h
 elp keep your brain sharp too! Learn more about this important aspect of o
 verall fitness\, and what activities you can do to maintain brain fitness 
 as you age.\n\n<strong>This class will be held both virtually and in-perso
 n in Fairfax.</strong> Please select your attendance type when you registe
 r. <ul><li>In-person attendance in Fairfax is limited to 20 participants. 
 The session will be held in the Mazawey Education and Support Center\, 395
 5 Pender Drive\, Suite 100\, Fairfax\, VA 22030 (<a href='https://www.insi
 ghtmcc.org/about-insight-memory-care-center/locations/directions.html'>dir
 ections</a>).</li></ul>\n<ul><li>Virtual attendees will receive Zoom infor
 mation prior to the class.</li></ul>\n\n\nThis program is a part of our mo
 nthly Care Partner Training series. All sessions are FREE\, and held the s
 econd Wednesday of each month from 1:00 to 2:30 pm.\n\n<strong>Presenter</
 strong>\n<em>Dr. Ellen Clarke\, PhD\, Brain Evolved Inc.</em>\nDr. Clarke 
 earned her PhD in Human Factors from George Mason University in 2012\, whe
 re she led pioneering research studies on the effectiveness of cognitive t
 raining games. Upon graduation\, she worked as a consultant for a variety 
 of respected institutions\, including Defense Advanced Research Projects A
 gency (DARPA)\, the U.S. Naval Research Lab (NRL)\, and Blue Cross Blue Sh
 ield. She formed Brain Evolved in 2016 to better address the needs of the 
 older adult public.\n\n\n&nbsp\;\n<strong><a href='https://insightmemory.a
 pp.neoncrm.com/eventReg.jsp?event=849&' class='button'>Sign Me Up - In Per
 son</a></strong>\n\n<strong><a href='https://insightmemory.app.neoncrm.com
 /eventReg.jsp?event=854&' class='button'>Sign Me Up - Virtual</a></strong>
X-WR-RELCALID:6ea111c809c479d71071819dbcb6d97b
X-WR-TIMEZONE:America/New_York
BEGIN:VTIMEZONE
TZID:America/New_York
BEGIN:STANDARD
TZNAME:EST
DTSTART:20221106T020000
TZOFFSETFROM:-0400
TZOFFSETTO:-0500
RDATE:20231105T020000
RDATE:20241103T020000
END:STANDARD
BEGIN:DAYLIGHT
TZNAME:EDT
DTSTART:20230312T020000
TZOFFSETFROM:-0500
TZOFFSETTO:-0400
RDATE:20240310T020000
END:DAYLIGHT
END:VTIMEZONE
BEGIN:VEVENT
UID:2e9e9ef9-43a3-4f48-bc09-4fa67668c1b4
DTSTAMP:20260422T023739Z
DESCRIPTION:When you think of fitness\, you probably picture weights or run
 ning. We all know the importance of staying active\, but what about brain 
 fitness? There are many activities and cognitive interventions that can he
 lp keep your brain sharp too! Learn more about this important aspect of ov
 erall fitness\, and what activities you can do to maintain brain fitness a
 s you age.\n\n<strong>This class will be held both virtually and in-person
  in Fairfax.</strong> Please select your attendance type when you register
 . <ul><li>In-person attendance in Fairfax is limited to 20 participants. T
 he session will be held in the Mazawey Education and Support Center\, 3955
  Pender Drive\, Suite 100\, Fairfax\, VA 22030 (<a href='https://www.insig
 htmcc.org/about-insight-memory-care-center/locations/directions.html'>dire
 ctions</a>).</li></ul>\n<ul><li>Virtual attendees will receive Zoom inform
 ation prior to the class.</li></ul>\n\n\nThis program is a part of our mon
 thly Care Partner Training series. All sessions are FREE\, and held the se
 cond Wednesday of each month from 1:00 to 2:30 pm.\n\n<strong>Presenter</s
 trong>\n<em>Dr. Ellen Clarke\, PhD\, Brain Evolved Inc.</em>\nDr. Clarke e
 arned her PhD in Human Factors from George Mason University in 2012\, wher
 e she led pioneering research studies on the effectiveness of cognitive tr
 aining games. Upon graduation\, she worked as a consultant for a variety o
 f respected institutions\, including Defense Advanced Research Projects Ag
 ency (DARPA)\, the U.S. Naval Research Lab (NRL)\, and Blue Cross Blue Shi
 eld. She formed Brain Evolved in 2016 to better address the needs of the o
 lder adult public.\n\n\n&nbsp\;\n<strong><a href='https://insightmemory.ap
 p.neoncrm.com/eventReg.jsp?event=849&' class='button'>Sign Me Up - In Pers
 on</a></strong>\n\n<strong><a href='https://insightmemory.app.neoncrm.com/
 eventReg.jsp?event=854&' class='button'>Sign Me Up - Virtual</a></strong>
DTSTART;TZID=America/New_York:20230809T130000
DTEND;TZID=America/New_York:20230809T143000
LOCATION:Hybrid! Virtual and in-person at Insight Memory Care Center - Fair
 fax
SUMMARY:Brain Health and Exercise
END:VEVENT
END:VCALENDAR
