BEGIN:VCALENDAR
VERSION:2.0
PRODID:-//www.insightmcc.org//NONSGML kigkonsult.se iCalcreator 2.30.10//
CALSCALE:GREGORIAN
METHOD:PUBLISH
UID:c4a523ba-08fa-4f34-a6d4-c50930d8418a
X-WR-CALDESC:Insight Memory Care Center will offer free\, confidential memo
 ry screenings and educational materials to people with concerns about thei
 r memory or who want to check their memory now for future comparison. \n\n
 Register for a 30 minute time slot between 10:00am-2:00pm by calling 703-9
 70-3601.
X-WR-RELCALID:f30e892c1e3c4b68d475ba8dd802df2a
X-WR-TIMEZONE:America/New_York
BEGIN:VTIMEZONE
TZID:America/New_York
BEGIN:STANDARD
TZNAME:EST
DTSTART:20221106T020000
TZOFFSETFROM:-0400
TZOFFSETTO:-0500
RDATE:20231105T020000
RDATE:20241103T020000
END:STANDARD
BEGIN:DAYLIGHT
TZNAME:EDT
DTSTART:20230312T020000
TZOFFSETFROM:-0500
TZOFFSETTO:-0400
RDATE:20240310T020000
END:DAYLIGHT
END:VTIMEZONE
BEGIN:VEVENT
UID:f7183bec-9293-4a89-8980-b5b2640fcb3b
DTSTAMP:20260422T023654Z
DESCRIPTION:Insight Memory Care Center will offer free\, confidential memor
 y screenings and educational materials to people with concerns about their
  memory or who want to check their memory now for future comparison. \n\nR
 egister for a 30 minute time slot between 10:00am-2:00pm by calling 703-97
 0-3601.
DTSTART;TZID=America/New_York:20230821T100000
DTEND;TZID=America/New_York:20230821T140000
LOCATION:Wellness Center for Older Adults (WCOA)\, 4027B Olley Lane\, Fairf
 ax \, VA 22032 US
SUMMARY:Memory Screenings at WCOA
END:VEVENT
END:VCALENDAR
