BEGIN:VCALENDAR
VERSION:2.0
PRODID:-//www.insightmcc.org//NONSGML kigkonsult.se iCalcreator 2.30.10//
CALSCALE:GREGORIAN
METHOD:PUBLISH
UID:f9a653c9-c3a6-489d-a938-f8debddee658
X-WR-CALDESC:This group is specifically designed for the unique needs\, cha
 llenges and experiences of LGBTQ+ care partners for individuals living wit
 h dementia. Get to know others in a safe space\, and have the opportunity 
 to share personal concerns and successes.  This group is led by Rev. Dawn 
 Jefferson.\n\nThis group meets at Insight - Fairfax on the fourth Wednesda
 y. All support groups are free and open to the public. Please register and
  you'll receive reminders to join us!\n\n&nbsp\;\n<strong><a href='https:/
 /insightmemory.app.neoncrm.com/eventReg.jsp?event=813&' target='_blank' cl
 ass='button' rel='noreferrer noopener'>Sign Me Up!</a></strong>
X-WR-RELCALID:753807ef27bc6448a33ef1ac885f38c5
X-WR-TIMEZONE:America/New_York
BEGIN:VTIMEZONE
TZID:America/New_York
BEGIN:STANDARD
TZNAME:EST
DTSTART:20221106T020000
TZOFFSETFROM:-0400
TZOFFSETTO:-0500
RDATE:20231105T020000
RDATE:20241103T020000
END:STANDARD
BEGIN:DAYLIGHT
TZNAME:EDT
DTSTART:20230312T020000
TZOFFSETFROM:-0500
TZOFFSETTO:-0400
RDATE:20240310T020000
END:DAYLIGHT
END:VTIMEZONE
BEGIN:VEVENT
UID:b421a684-c7f3-448e-9c9f-feed2d473afe
DTSTAMP:20260422T024052Z
DESCRIPTION:This group is specifically designed for the unique needs\, chal
 lenges and experiences of LGBTQ+ care partners for individuals living with
  dementia. Get to know others in a safe space\, and have the opportunity t
 o share personal concerns and successes.  This group is led by Rev. Dawn J
 efferson.\n\nThis group meets at Insight - Fairfax on the fourth Wednesday
 . All support groups are free and open to the public. Please register and 
 you'll receive reminders to join us!\n\n&nbsp\;\n<strong><a href='https://
 insightmemory.app.neoncrm.com/eventReg.jsp?event=813&' target='_blank' cla
 ss='button' rel='noreferrer noopener'>Sign Me Up!</a></strong>
DTSTART;TZID=America/New_York:20230823T130000
DTEND;TZID=America/New_York:20230823T140000
LOCATION:Insight Memory Care Center\, 3955 Pender Drive\, Suite 100\, Fairf
 ax\, VA 22030 US
SUMMARY:LBGTQ+ Care Partner Support Group
END:VEVENT
END:VCALENDAR
